BEGIN:VCALENDAR
VERSION:2.0
PRODID:-//City Parks Foundation - ECPv6.15.18//NONSGML v1.0//EN
CALSCALE:GREGORIAN
METHOD:PUBLISH
X-WR-CALNAME:City Parks Foundation
X-ORIGINAL-URL:https://cityparksfoundation.org
X-WR-CALDESC:Events for City Parks Foundation
REFRESH-INTERVAL;VALUE=DURATION:PT1H
X-Robots-Tag:noindex
X-PUBLISHED-TTL:PT1H
BEGIN:VTIMEZONE
TZID:America/New_York
BEGIN:DAYLIGHT
TZOFFSETFROM:-0500
TZOFFSETTO:-0400
TZNAME:EDT
DTSTART:20240310T070000
END:DAYLIGHT
BEGIN:STANDARD
TZOFFSETFROM:-0400
TZOFFSETTO:-0500
TZNAME:EST
DTSTART:20241103T060000
END:STANDARD
BEGIN:DAYLIGHT
TZOFFSETFROM:-0500
TZOFFSETTO:-0400
TZNAME:EDT
DTSTART:20250309T070000
END:DAYLIGHT
BEGIN:STANDARD
TZOFFSETFROM:-0400
TZOFFSETTO:-0500
TZNAME:EST
DTSTART:20251102T060000
END:STANDARD
BEGIN:DAYLIGHT
TZOFFSETFROM:-0500
TZOFFSETTO:-0400
TZNAME:EDT
DTSTART:20260308T070000
END:DAYLIGHT
BEGIN:STANDARD
TZOFFSETFROM:-0400
TZOFFSETTO:-0500
TZNAME:EST
DTSTART:20261101T060000
END:STANDARD
END:VTIMEZONE
BEGIN:VEVENT
DTSTART;TZID=America/New_York:20250819T190000
DTEND;TZID=America/New_York:20250819T220000
DTSTAMP:20260423T072121
CREATED:20250815T160043Z
LAST-MODIFIED:20250815T200811Z
UID:16220-1755630000-1755640800@cityparksfoundation.org
SUMMARY:Jon Batiste
DESCRIPTION:Marking a bold new chapter in Batiste’s catalog\, Big Money is rooted in American traditions — from gospel and soul to blues\, folk\, and rock & roll. Batiste introduced the nine-track project with its title track\, “Big Money\,” a groove-forward anthem anchored by his guitar and the soaring vocals of The Womack Sisters\, granddaughters of soul legend Sam Cooke. He followed with “Lonely Avenue\,” a soulful\, piano-driven collaboration with Randy Newman that reimagines the Doc Pomus classic made famous by Ray Charles. Co-produced with longtime collaborator Dion “No I.D.” Wilson\, the album also features a standout duet with Andra Day. Big Money caps a landmark year that included Batiste’s Super Bowl performance\, two GRAMMY wins for his work on American Symphony\, and the chart-topping success of Beethoven Blues\, which spent nine weeks at No. 1 on Billboard’s Classical Albums chart.
URL:https://cityparksfoundation.org/events/jon-batiste/
LOCATION:Manhattan
CATEGORIES:SummerStage
ATTACH;FMTTYPE=image/webp:https://cityparksfoundation.org/wp-content/uploads/2025/08/batiste_web-1.webp
END:VEVENT
END:VCALENDAR