BEGIN:VCALENDAR
VERSION:2.0
PRODID:-//City Parks Foundation - ECPv6.15.18//NONSGML v1.0//EN
CALSCALE:GREGORIAN
METHOD:PUBLISH
X-WR-CALNAME:City Parks Foundation
X-ORIGINAL-URL:https://cityparksfoundation.org
X-WR-CALDESC:Events for City Parks Foundation
REFRESH-INTERVAL;VALUE=DURATION:PT1H
X-Robots-Tag:noindex
X-PUBLISHED-TTL:PT1H
BEGIN:VTIMEZONE
TZID:America/New_York
BEGIN:DAYLIGHT
TZOFFSETFROM:-0500
TZOFFSETTO:-0400
TZNAME:EDT
DTSTART:20240310T070000
END:DAYLIGHT
BEGIN:STANDARD
TZOFFSETFROM:-0400
TZOFFSETTO:-0500
TZNAME:EST
DTSTART:20241103T060000
END:STANDARD
BEGIN:DAYLIGHT
TZOFFSETFROM:-0500
TZOFFSETTO:-0400
TZNAME:EDT
DTSTART:20250309T070000
END:DAYLIGHT
BEGIN:STANDARD
TZOFFSETFROM:-0400
TZOFFSETTO:-0500
TZNAME:EST
DTSTART:20251102T060000
END:STANDARD
BEGIN:DAYLIGHT
TZOFFSETFROM:-0500
TZOFFSETTO:-0400
TZNAME:EDT
DTSTART:20260308T070000
END:DAYLIGHT
BEGIN:STANDARD
TZOFFSETFROM:-0400
TZOFFSETTO:-0500
TZNAME:EST
DTSTART:20261101T060000
END:STANDARD
END:VTIMEZONE
BEGIN:VEVENT
DTSTART;TZID=America/New_York:20251018T100000
DTEND;TZID=America/New_York:20251018T120000
DTSTAMP:20260424T102217
CREATED:20250929T193231Z
LAST-MODIFIED:20250929T193231Z
UID:16858-1760781600-1760788800@cityparksfoundation.org
SUMMARY:It's My Park at Stuyvesant Square
DESCRIPTION:This It’s My Park season\, volunteer with Stuyvesant Park Neighborhood Association to plant flower bulbs in the park to bring lots of amazing colors to the park in spring at Stuyvesant Square Park West. We look forward to cleaning up the park with you! \nVolunteers should meet at the western half of the park between East 15th and East 17th street at 2nd Avenue.  \nFor more information\, please email spnanyc@gmail.com.
URL:https://cityparksfoundation.org/events/its-my-park-at-stuyvesant-square-18/
LOCATION:Manhattan
CATEGORIES:Volunteer: It's My Park
ATTACH;FMTTYPE=image/jpeg:https://cityparksfoundation.org/wp-content/uploads/2025/03/IMP_widget_2023_lft_1-2-1-1-2-2-2-1-1-3-4-3-2-3-5-1-1-3-2-1-1-1-16-2-3-1-2-1-10-1-3-1-2-1-2-1-4-1-1-6-2-5-3-1-1-1-4-1-3.jpg
END:VEVENT
END:VCALENDAR