BEGIN:VCALENDAR
VERSION:2.0
PRODID:-//City Parks Foundation - ECPv6.15.18//NONSGML v1.0//EN
CALSCALE:GREGORIAN
METHOD:PUBLISH
X-WR-CALNAME:City Parks Foundation
X-ORIGINAL-URL:https://cityparksfoundation.org
X-WR-CALDESC:Events for City Parks Foundation
REFRESH-INTERVAL;VALUE=DURATION:PT1H
X-Robots-Tag:noindex
X-PUBLISHED-TTL:PT1H
BEGIN:VTIMEZONE
TZID:America/New_York
BEGIN:DAYLIGHT
TZOFFSETFROM:-0500
TZOFFSETTO:-0400
TZNAME:EDT
DTSTART:20250309T070000
END:DAYLIGHT
BEGIN:STANDARD
TZOFFSETFROM:-0400
TZOFFSETTO:-0500
TZNAME:EST
DTSTART:20251102T060000
END:STANDARD
BEGIN:DAYLIGHT
TZOFFSETFROM:-0500
TZOFFSETTO:-0400
TZNAME:EDT
DTSTART:20260308T070000
END:DAYLIGHT
BEGIN:STANDARD
TZOFFSETFROM:-0400
TZOFFSETTO:-0500
TZNAME:EST
DTSTART:20261101T060000
END:STANDARD
BEGIN:DAYLIGHT
TZOFFSETFROM:-0500
TZOFFSETTO:-0400
TZNAME:EDT
DTSTART:20270314T070000
END:DAYLIGHT
BEGIN:STANDARD
TZOFFSETFROM:-0400
TZOFFSETTO:-0500
TZNAME:EST
DTSTART:20271107T060000
END:STANDARD
END:VTIMEZONE
BEGIN:VEVENT
DTSTART;TZID=America/New_York:20260530T110000
DTEND;TZID=America/New_York:20260530T140000
DTSTAMP:20260420T234830
CREATED:20260420T201743Z
LAST-MODIFIED:20260420T201743Z
UID:19645-1780138800-1780149600@cityparksfoundation.org
SUMMARY:It's My Park at Riverside Drive Street Trees
DESCRIPTION:This It’s My Park season\, volunteer with Audubon Park Tree Bed Project for spring planting at the Riverside Drive street trees. We look forward to cleaning up the park with you! \nVolunteers should meet at Ilka Payan Park at the corner of 157th St and Broadway. We will be working along 155th Street to 158th Street from Broadway to Riverside Drive.  \nFor more information\, please email iwedemeye790@gmail.com.
URL:https://cityparksfoundation.org/events/its-my-park-at-riverside-drive-street-trees-2/
LOCATION:Manhattan
CATEGORIES:Volunteer: It's My Park
ATTACH;FMTTYPE=image/jpeg:https://cityparksfoundation.org/wp-content/uploads/2025/03/IMP_widget_2023_lft_5-2-1-1-2-1-2-1-1-1-1-1-1-1-2-1-1-1-1-8-4-1-1-1-7-1-2-1-1-3-1-1-1-2-1-1-1-1-1-2-1-5-2-4-1.jpg
END:VEVENT
END:VCALENDAR