BEGIN:VCALENDAR
VERSION:2.0
PRODID:-//City Parks Foundation - ECPv6.15.18//NONSGML v1.0//EN
CALSCALE:GREGORIAN
METHOD:PUBLISH
X-WR-CALNAME:City Parks Foundation
X-ORIGINAL-URL:https://cityparksfoundation.org
X-WR-CALDESC:Events for City Parks Foundation
REFRESH-INTERVAL;VALUE=DURATION:PT1H
X-Robots-Tag:noindex
X-PUBLISHED-TTL:PT1H
BEGIN:VTIMEZONE
TZID:America/New_York
BEGIN:DAYLIGHT
TZOFFSETFROM:-0500
TZOFFSETTO:-0400
TZNAME:EDT
DTSTART:20240310T070000
END:DAYLIGHT
BEGIN:STANDARD
TZOFFSETFROM:-0400
TZOFFSETTO:-0500
TZNAME:EST
DTSTART:20241103T060000
END:STANDARD
BEGIN:DAYLIGHT
TZOFFSETFROM:-0500
TZOFFSETTO:-0400
TZNAME:EDT
DTSTART:20250309T070000
END:DAYLIGHT
BEGIN:STANDARD
TZOFFSETFROM:-0400
TZOFFSETTO:-0500
TZNAME:EST
DTSTART:20251102T060000
END:STANDARD
BEGIN:DAYLIGHT
TZOFFSETFROM:-0500
TZOFFSETTO:-0400
TZNAME:EDT
DTSTART:20260308T070000
END:DAYLIGHT
BEGIN:STANDARD
TZOFFSETFROM:-0400
TZOFFSETTO:-0500
TZNAME:EST
DTSTART:20261101T060000
END:STANDARD
END:VTIMEZONE
BEGIN:VEVENT
DTSTART;TZID=America/New_York:20250913T110000
DTEND;TZID=America/New_York:20250913T150000
DTSTAMP:20260424T114548
CREATED:20250819T180431Z
LAST-MODIFIED:20250819T180431Z
UID:16284-1757761200-1757775600@cityparksfoundation.org
SUMMARY:It's My Park at Peter Detmold Park
DESCRIPTION:This It’s My Park season\, volunteer with Peter Detmold Dog Run Group to paint the dog run fences and metal columns at the Peter Detmold Park Dog Run. We look forward to cleaning up the park with you! \nVolunteers should meet at Dog Run. We’ll be working in the dog run as well as at the gate and the columns for the pedestrian overpass. \nFor more information\, please email pdp.arf@gmail.com.
URL:https://cityparksfoundation.org/events/its-my-park-at-peter-detmold-park-4/
LOCATION:Manhattan
CATEGORIES:Volunteer: It's My Park
ATTACH;FMTTYPE=image/jpeg:https://cityparksfoundation.org/wp-content/uploads/2025/02/IMP_widget_2023_centr_1-1-1-1-1-2-1-3-1-2-2-1-1-1-3-2-1-1-3-1-2-1-3-1-5-1-2-1-1-1-3-1-1-1-1-3-3-1-5-4-1-2-1-3.jpg
END:VEVENT
END:VCALENDAR