BEGIN:VCALENDAR
VERSION:2.0
PRODID:-//City Parks Foundation - ECPv6.15.18//NONSGML v1.0//EN
CALSCALE:GREGORIAN
METHOD:PUBLISH
X-WR-CALNAME:City Parks Foundation
X-ORIGINAL-URL:https://cityparksfoundation.org
X-WR-CALDESC:Events for City Parks Foundation
REFRESH-INTERVAL;VALUE=DURATION:PT1H
X-Robots-Tag:noindex
X-PUBLISHED-TTL:PT1H
BEGIN:VTIMEZONE
TZID:America/New_York
BEGIN:DAYLIGHT
TZOFFSETFROM:-0500
TZOFFSETTO:-0400
TZNAME:EDT
DTSTART:20250309T070000
END:DAYLIGHT
BEGIN:STANDARD
TZOFFSETFROM:-0400
TZOFFSETTO:-0500
TZNAME:EST
DTSTART:20251102T060000
END:STANDARD
BEGIN:DAYLIGHT
TZOFFSETFROM:-0500
TZOFFSETTO:-0400
TZNAME:EDT
DTSTART:20260308T070000
END:DAYLIGHT
BEGIN:STANDARD
TZOFFSETFROM:-0400
TZOFFSETTO:-0500
TZNAME:EST
DTSTART:20261101T060000
END:STANDARD
BEGIN:DAYLIGHT
TZOFFSETFROM:-0500
TZOFFSETTO:-0400
TZNAME:EDT
DTSTART:20270314T070000
END:DAYLIGHT
BEGIN:STANDARD
TZOFFSETFROM:-0400
TZOFFSETTO:-0500
TZNAME:EST
DTSTART:20271107T060000
END:STANDARD
END:VTIMEZONE
BEGIN:VEVENT
DTSTART;TZID=America/New_York:20260530T100000
DTEND;TZID=America/New_York:20260530T123000
DTSTAMP:20260420T234555
CREATED:20260420T201747Z
LAST-MODIFIED:20260420T201747Z
UID:19649-1780135200-1780144200@cityparksfoundation.org
SUMMARY:It's My Park at Peter Detmold Park
DESCRIPTION:This It’s My Park season\, volunteer with Turtle Bay Association for a general cleanup at Peter Detmold Park. We look forward to cleaning up the park with you! \nVolunteers should meet at the park. We’ll be working in the planted areas throughout the park. \nFor more information\, please email office@turtlebay-nyc.org.
URL:https://cityparksfoundation.org/events/its-my-park-at-peter-detmold-park-13/
LOCATION:Manhattan
CATEGORIES:Volunteer: It's My Park
ATTACH;FMTTYPE=image/jpeg:https://cityparksfoundation.org/wp-content/uploads/2025/02/IMP_widget_2023_centr_2-1-3-1-3-1-1-1-2-2-1-1-2-2-1-1-3-1-2-1-2-1-5-1-2-1-1-1-3-1-1-2-2-5-1-1-5-3-1-3-1-1.jpg
END:VEVENT
END:VCALENDAR