BEGIN:VCALENDAR
VERSION:2.0
PRODID:-//City Parks Foundation - ECPv6.15.18//NONSGML v1.0//EN
CALSCALE:GREGORIAN
METHOD:PUBLISH
X-WR-CALNAME:City Parks Foundation
X-ORIGINAL-URL:https://cityparksfoundation.org
X-WR-CALDESC:Events for City Parks Foundation
REFRESH-INTERVAL;VALUE=DURATION:PT1H
X-Robots-Tag:noindex
X-PUBLISHED-TTL:PT1H
BEGIN:VTIMEZONE
TZID:America/New_York
BEGIN:DAYLIGHT
TZOFFSETFROM:-0500
TZOFFSETTO:-0400
TZNAME:EDT
DTSTART:20250309T070000
END:DAYLIGHT
BEGIN:STANDARD
TZOFFSETFROM:-0400
TZOFFSETTO:-0500
TZNAME:EST
DTSTART:20251102T060000
END:STANDARD
BEGIN:DAYLIGHT
TZOFFSETFROM:-0500
TZOFFSETTO:-0400
TZNAME:EDT
DTSTART:20260308T070000
END:DAYLIGHT
BEGIN:STANDARD
TZOFFSETFROM:-0400
TZOFFSETTO:-0500
TZNAME:EST
DTSTART:20261101T060000
END:STANDARD
BEGIN:DAYLIGHT
TZOFFSETFROM:-0500
TZOFFSETTO:-0400
TZNAME:EDT
DTSTART:20270314T070000
END:DAYLIGHT
BEGIN:STANDARD
TZOFFSETFROM:-0400
TZOFFSETTO:-0500
TZNAME:EST
DTSTART:20271107T060000
END:STANDARD
END:VTIMEZONE
BEGIN:VEVENT
DTSTART;TZID=America/New_York:20260118T100000
DTEND;TZID=America/New_York:20260118T120000
DTSTAMP:20260421T070622
CREATED:20251210T210836Z
LAST-MODIFIED:20251210T210836Z
UID:17904-1768730400-1768737600@cityparksfoundation.org
SUMMARY:It's My Park at McKinley Park
DESCRIPTION:This It’s My Park season\, volunteer with Parent-Child Relationship Association to beautify McKinley Park. We look forward to cleaning up the park with you! \nVolunteers should meet at Due to construction at MK Park\, meetup location is at Leif Ericson Park (67th Street\, between 8th Ave & Ft Hamilton).. \nFor more information\, please email volunteer.pcrnyc@gmail.com.
URL:https://cityparksfoundation.org/events/its-my-park-at-mckinley-park-24/
LOCATION:Brooklyn
CATEGORIES:Volunteer: It's My Park
ATTACH;FMTTYPE=image/jpeg:https://cityparksfoundation.org/wp-content/uploads/2025/02/IMP_widget_2023_rt_3-2-1-2-1-1-1-1-1-1-2-1-1-1-2-1-1-1-1-8-1-2-1-1-1-5-1-2-1-1-1-3-1-2-1-1-3-3-1-2-4-2-2-3.jpg
END:VEVENT
END:VCALENDAR