BEGIN:VCALENDAR
VERSION:2.0
PRODID:-//City Parks Foundation - ECPv6.15.18//NONSGML v1.0//EN
CALSCALE:GREGORIAN
METHOD:PUBLISH
X-WR-CALNAME:City Parks Foundation
X-ORIGINAL-URL:https://cityparksfoundation.org
X-WR-CALDESC:Events for City Parks Foundation
REFRESH-INTERVAL;VALUE=DURATION:PT1H
X-Robots-Tag:noindex
X-PUBLISHED-TTL:PT1H
BEGIN:VTIMEZONE
TZID:America/New_York
BEGIN:DAYLIGHT
TZOFFSETFROM:-0500
TZOFFSETTO:-0400
TZNAME:EDT
DTSTART:20250309T070000
END:DAYLIGHT
BEGIN:STANDARD
TZOFFSETFROM:-0400
TZOFFSETTO:-0500
TZNAME:EST
DTSTART:20251102T060000
END:STANDARD
BEGIN:DAYLIGHT
TZOFFSETFROM:-0500
TZOFFSETTO:-0400
TZNAME:EDT
DTSTART:20260308T070000
END:DAYLIGHT
BEGIN:STANDARD
TZOFFSETFROM:-0400
TZOFFSETTO:-0500
TZNAME:EST
DTSTART:20261101T060000
END:STANDARD
BEGIN:DAYLIGHT
TZOFFSETFROM:-0500
TZOFFSETTO:-0400
TZNAME:EDT
DTSTART:20270314T070000
END:DAYLIGHT
BEGIN:STANDARD
TZOFFSETFROM:-0400
TZOFFSETTO:-0500
TZNAME:EST
DTSTART:20271107T060000
END:STANDARD
END:VTIMEZONE
BEGIN:VEVENT
DTSTART;TZID=America/New_York:20260425T100000
DTEND;TZID=America/New_York:20260425T130000
DTSTAMP:20260420T055917
CREATED:20260303T220215Z
LAST-MODIFIED:20260303T220215Z
UID:18969-1777111200-1777122000@cityparksfoundation.org
SUMMARY:It's My Park at Markham Playground
DESCRIPTION:Join us for Spring Cleanup of Lake Cemetery\, IS51 basketball\, bocci ball and sitting area on Forest Ave corner of Bayonne Bridge expressway. We will supply work gloves\, trash bags & trash grabbers. Community service credit can be awarded if needed\, please bring your own forms. ALL WELCOMED to lend a hand or stop by and say hello. Please dress appropriately. \nVolunteers should meet at the cemetery driveway adjacent to 36 Willowbrook Road. \nFor more information\, please email sicemetery@gmail.com.
URL:https://cityparksfoundation.org/events/its-my-park-at-markham-playground/
LOCATION:Staten Island
CATEGORIES:Volunteer: It's My Park
ATTACH;FMTTYPE=image/jpeg:https://cityparksfoundation.org/wp-content/uploads/2025/02/IMP_widget_2023_rt_2-2-1-1-2-2-1-1-1-3-1-1-2-1-1-1-7-4-1-1-1-5-1-2-3-1-2-1-1-1-1-2-1-3-2-2-5-2-2-2.jpg
END:VEVENT
END:VCALENDAR