BEGIN:VCALENDAR
VERSION:2.0
PRODID:-//City Parks Foundation - ECPv6.15.18//NONSGML v1.0//EN
CALSCALE:GREGORIAN
METHOD:PUBLISH
X-WR-CALNAME:City Parks Foundation
X-ORIGINAL-URL:https://cityparksfoundation.org
X-WR-CALDESC:Events for City Parks Foundation
REFRESH-INTERVAL;VALUE=DURATION:PT1H
X-Robots-Tag:noindex
X-PUBLISHED-TTL:PT1H
BEGIN:VTIMEZONE
TZID:America/New_York
BEGIN:DAYLIGHT
TZOFFSETFROM:-0500
TZOFFSETTO:-0400
TZNAME:EDT
DTSTART:20250309T070000
END:DAYLIGHT
BEGIN:STANDARD
TZOFFSETFROM:-0400
TZOFFSETTO:-0500
TZNAME:EST
DTSTART:20251102T060000
END:STANDARD
BEGIN:DAYLIGHT
TZOFFSETFROM:-0500
TZOFFSETTO:-0400
TZNAME:EDT
DTSTART:20260308T070000
END:DAYLIGHT
BEGIN:STANDARD
TZOFFSETFROM:-0400
TZOFFSETTO:-0500
TZNAME:EST
DTSTART:20261101T060000
END:STANDARD
BEGIN:DAYLIGHT
TZOFFSETFROM:-0500
TZOFFSETTO:-0400
TZNAME:EDT
DTSTART:20270314T070000
END:DAYLIGHT
BEGIN:STANDARD
TZOFFSETFROM:-0400
TZOFFSETTO:-0500
TZNAME:EST
DTSTART:20271107T060000
END:STANDARD
END:VTIMEZONE
BEGIN:VEVENT
DTSTART;TZID=America/New_York:20260314T110000
DTEND;TZID=America/New_York:20260314T140000
DTSTAMP:20260424T102136
CREATED:20260303T220214Z
LAST-MODIFIED:20260303T220214Z
UID:18968-1773486000-1773496800@cityparksfoundation.org
SUMMARY:It's My Park at Mahoney Playground
DESCRIPTION:On March 14\, Friends of Mahoney Playground will host an It’s My Park (IMP) Day to kick off Phase 1 of the Green Fund “Roots & Blossoms” Native Plant Project. This event will focus on clean-up and ground preparation for a new native pollinator garden in Mahoney Playground in New Brighton. Volunteers will help remove litter and invasive growth\, clear and define garden bed areas\, layer cardboard for natural weed suppression\, and prepare soil with amendments to support healthy planting. This foundational work will prepare the site for upcoming native seed ball workshops and plug planting days that will engage youth\, families\, and seniors in hands-on environmental education. Roots & Blossoms is designed to increase pollinator habitat\, improve soil health\, and build climate resilience in an Environmental Justice community that is also considered a food desert despite neighboring major waterfront development. By restoring this underutilized space\, we aim to beautify the playground\, strengthen community stewardship\, and create an intergenerational teaching garden rooted in sustainability. All ages are welcome\, and tools and gloves will be provided while supplies last. \nVolunteers should meet at Beechwood ave and crescent ave side of park. \nFor more information\, please email friendsofmahoneyplayground@gmail.com.
URL:https://cityparksfoundation.org/events/its-my-park-at-mahoney-playground-3/
LOCATION:Staten Island
CATEGORIES:Volunteer: It's My Park
ATTACH;FMTTYPE=image/jpeg:https://cityparksfoundation.org/wp-content/uploads/2025/03/IMP_widget_2023_lft_4-4-1-3-1-2-1-2-2-2-2-1-3-1-1-3-1-1-1-1-8-1-4-1-1-1-10-1-2-1-1-3-2-2-1-5-1-1-2-6-4-4-1.jpg
END:VEVENT
END:VCALENDAR