BEGIN:VCALENDAR
VERSION:2.0
PRODID:-//City Parks Foundation - ECPv6.15.18//NONSGML v1.0//EN
CALSCALE:GREGORIAN
METHOD:PUBLISH
X-WR-CALNAME:City Parks Foundation
X-ORIGINAL-URL:https://cityparksfoundation.org
X-WR-CALDESC:Events for City Parks Foundation
REFRESH-INTERVAL;VALUE=DURATION:PT1H
X-Robots-Tag:noindex
X-PUBLISHED-TTL:PT1H
BEGIN:VTIMEZONE
TZID:America/New_York
BEGIN:DAYLIGHT
TZOFFSETFROM:-0500
TZOFFSETTO:-0400
TZNAME:EDT
DTSTART:20240310T070000
END:DAYLIGHT
BEGIN:STANDARD
TZOFFSETFROM:-0400
TZOFFSETTO:-0500
TZNAME:EST
DTSTART:20241103T060000
END:STANDARD
BEGIN:DAYLIGHT
TZOFFSETFROM:-0500
TZOFFSETTO:-0400
TZNAME:EDT
DTSTART:20250309T070000
END:DAYLIGHT
BEGIN:STANDARD
TZOFFSETFROM:-0400
TZOFFSETTO:-0500
TZNAME:EST
DTSTART:20251102T060000
END:STANDARD
BEGIN:DAYLIGHT
TZOFFSETFROM:-0500
TZOFFSETTO:-0400
TZNAME:EDT
DTSTART:20260308T070000
END:DAYLIGHT
BEGIN:STANDARD
TZOFFSETFROM:-0400
TZOFFSETTO:-0500
TZNAME:EST
DTSTART:20261101T060000
END:STANDARD
END:VTIMEZONE
BEGIN:VEVENT
DTSTART;TZID=America/New_York:20250920T100000
DTEND;TZID=America/New_York:20250920T120000
DTSTAMP:20260424T103452
CREATED:20250903T162455Z
LAST-MODIFIED:20250903T162455Z
UID:16543-1758362400-1758369600@cityparksfoundation.org
SUMMARY:It's My Park at Kaiser Park
DESCRIPTION:This It’s My Park season\, Join us at Kaiser Park for the annual International Coastal Cleanup day\, a global volunteer effort to remove litter from the world’s beaches and waterways. This event is put on by the Coney Island Coalition\, a collaboration of WCS New York Aquarium\, Billion Oyster Project\, New York State Marine Education Association\, City Parks Foundation\, and Partnerships for Parks. We look forward to beautifying Coney Island with you! Please RSVP using this Google form. \nVolunteers should meet at the Kaiser Park shoreline near the BBQ area. \nFor more information\, please email nyaeducation@wcs.org.
URL:https://cityparksfoundation.org/events/its-my-park-at-kaiser-park-6/
LOCATION:Brooklyn
CATEGORIES:Volunteer: It's My Park
ATTACH;FMTTYPE=image/jpeg:https://cityparksfoundation.org/wp-content/uploads/2025/02/IMP_widget_2023_centr_2-1-3-1-3-1-1-1-2-2-1-1-2-2-1-1-3-1-2-1-2-1-5-1-2-1-1-1-3-1-1-2-2-5-1-1-5-3-1-3-1-1.jpg
END:VEVENT
END:VCALENDAR