BEGIN:VCALENDAR
VERSION:2.0
PRODID:-//City Parks Foundation - ECPv6.15.18//NONSGML v1.0//EN
CALSCALE:GREGORIAN
METHOD:PUBLISH
X-WR-CALNAME:City Parks Foundation
X-ORIGINAL-URL:https://cityparksfoundation.org
X-WR-CALDESC:Events for City Parks Foundation
REFRESH-INTERVAL;VALUE=DURATION:PT1H
X-Robots-Tag:noindex
X-PUBLISHED-TTL:PT1H
BEGIN:VTIMEZONE
TZID:America/New_York
BEGIN:DAYLIGHT
TZOFFSETFROM:-0500
TZOFFSETTO:-0400
TZNAME:EDT
DTSTART:20240310T070000
END:DAYLIGHT
BEGIN:STANDARD
TZOFFSETFROM:-0400
TZOFFSETTO:-0500
TZNAME:EST
DTSTART:20241103T060000
END:STANDARD
BEGIN:DAYLIGHT
TZOFFSETFROM:-0500
TZOFFSETTO:-0400
TZNAME:EDT
DTSTART:20250309T070000
END:DAYLIGHT
BEGIN:STANDARD
TZOFFSETFROM:-0400
TZOFFSETTO:-0500
TZNAME:EST
DTSTART:20251102T060000
END:STANDARD
BEGIN:DAYLIGHT
TZOFFSETFROM:-0500
TZOFFSETTO:-0400
TZNAME:EDT
DTSTART:20260308T070000
END:DAYLIGHT
BEGIN:STANDARD
TZOFFSETFROM:-0400
TZOFFSETTO:-0500
TZNAME:EST
DTSTART:20261101T060000
END:STANDARD
END:VTIMEZONE
BEGIN:VEVENT
DTSTART;TZID=America/New_York:20251206T093000
DTEND;TZID=America/New_York:20251206T093000
DTSTAMP:20260424T070809
CREATED:20251029T194118Z
LAST-MODIFIED:20251106T183457Z
UID:17383-1765013400-1765013400@cityparksfoundation.org
SUMMARY:It's My Park at John Jay Park
DESCRIPTION:Join Partnerships for Parks for an It’s My Park project to beautify John Jay Park. Volunteers are needed to help care for and celebrate John Jay Park’s trees. A tentative schedule for the day is below! We look forward to seeing you in the park! Walk-ons are welcome. Generous public support is provided by the NYC Council under the leadership of Speaker Adrienne Adams\, with special thanks to Council Member Julie Menin. \n9:30 am: John Jay Tree Celebration Begins!\nArt and education all day: Tree-related art project\, nature scavenger hunt\, and tree bingo\nTree care all day: Help care for John Jay Park trees! Tree mulching\, litter pickup\, and bulb planting with PfP.\n10:30 am to 12:00 pm: Thank You to our trees! Geared towards elementary and middle school\, we will discuss the importance of our urban forest.\n1:00 pm to 2:30 pm: Winter tree identification. This workshop\, led by an arborist\, is well suited to older kids and parents \nVolunteers should meet in front of the park house/bathrooms. \nFor more information\, please email mcooper@cityparksfoundation.org.
URL:https://cityparksfoundation.org/events/its-my-park-at-john-jay-park/
LOCATION:Manhattan
CATEGORIES:Volunteer: It's My Park
ATTACH;FMTTYPE=image/jpeg:https://cityparksfoundation.org/wp-content/uploads/2025/03/IMP_widget_2023_lft_1-2-1-1-2-2-2-1-1-3-4-3-2-3-5-1-1-3-2-1-1-1-16-2-3-1-2-1-10-1-3-1-2-1-2-1-4-1-1-6-2-5-3-1-1-1-4-1-3.jpg
END:VEVENT
END:VCALENDAR