BEGIN:VCALENDAR
VERSION:2.0
PRODID:-//City Parks Foundation - ECPv6.15.18//NONSGML v1.0//EN
CALSCALE:GREGORIAN
METHOD:PUBLISH
X-WR-CALNAME:City Parks Foundation
X-ORIGINAL-URL:https://cityparksfoundation.org
X-WR-CALDESC:Events for City Parks Foundation
REFRESH-INTERVAL;VALUE=DURATION:PT1H
X-Robots-Tag:noindex
X-PUBLISHED-TTL:PT1H
BEGIN:VTIMEZONE
TZID:America/New_York
BEGIN:DAYLIGHT
TZOFFSETFROM:-0500
TZOFFSETTO:-0400
TZNAME:EDT
DTSTART:20240310T070000
END:DAYLIGHT
BEGIN:STANDARD
TZOFFSETFROM:-0400
TZOFFSETTO:-0500
TZNAME:EST
DTSTART:20241103T060000
END:STANDARD
BEGIN:DAYLIGHT
TZOFFSETFROM:-0500
TZOFFSETTO:-0400
TZNAME:EDT
DTSTART:20250309T070000
END:DAYLIGHT
BEGIN:STANDARD
TZOFFSETFROM:-0400
TZOFFSETTO:-0500
TZNAME:EST
DTSTART:20251102T060000
END:STANDARD
BEGIN:DAYLIGHT
TZOFFSETFROM:-0500
TZOFFSETTO:-0400
TZNAME:EDT
DTSTART:20260308T070000
END:DAYLIGHT
BEGIN:STANDARD
TZOFFSETFROM:-0400
TZOFFSETTO:-0500
TZNAME:EST
DTSTART:20261101T060000
END:STANDARD
END:VTIMEZONE
BEGIN:VEVENT
DTSTART;TZID=America/New_York:20250920T093000
DTEND;TZID=America/New_York:20250920T120000
DTSTAMP:20260424T071128
CREATED:20250908T185828Z
LAST-MODIFIED:20250908T185828Z
UID:16610-1758360600-1758369600@cityparksfoundation.org
SUMMARY:It's My Park at Henry Hudson Park
DESCRIPTION:This It’s My Park season\, volunteer with Friends of Spuyten Duyvil at Henry Hudson Park. Explore\, enjoy\, and care for the park with us on our hands-on Community Opportunity Days! Autumn activities include raking\, weeding\, seeding\, mulching\, composting\, and other tasks to prep the park for winter. Family-friendly and accessible for all ages and abilities. No experience needed. Gloves\, tools\, and training provided. \nVolunteers should meet within the park. We’ll be working in two location. North of Kappock: Paths\, Plaza & bordering lawn\, garden beds. South of Kappock: Paul’s Park beds & plantings near courts. \nFor more information\, please email spuytenduyvilny@gmail.com.
URL:https://cityparksfoundation.org/events/its-my-park-at-henry-hudson-park-6/
LOCATION:Bronx
CATEGORIES:Volunteer: It's My Park
ATTACH;FMTTYPE=image/jpeg:https://cityparksfoundation.org/wp-content/uploads/2025/02/IMP_widget_2023_centr_1-1-1-1-1-2-1-3-1-2-2-1-1-1-3-2-1-1-3-1-2-1-3-1-5-1-2-1-1-1-3-1-1-1-1-3-3-1-5-4-1-2-1-3.jpg
END:VEVENT
END:VCALENDAR