BEGIN:VCALENDAR
VERSION:2.0
PRODID:-//City Parks Foundation - ECPv6.15.18//NONSGML v1.0//EN
CALSCALE:GREGORIAN
METHOD:PUBLISH
X-WR-CALNAME:City Parks Foundation
X-ORIGINAL-URL:https://cityparksfoundation.org
X-WR-CALDESC:Events for City Parks Foundation
REFRESH-INTERVAL;VALUE=DURATION:PT1H
X-Robots-Tag:noindex
X-PUBLISHED-TTL:PT1H
BEGIN:VTIMEZONE
TZID:America/New_York
BEGIN:DAYLIGHT
TZOFFSETFROM:-0500
TZOFFSETTO:-0400
TZNAME:EDT
DTSTART:20240310T070000
END:DAYLIGHT
BEGIN:STANDARD
TZOFFSETFROM:-0400
TZOFFSETTO:-0500
TZNAME:EST
DTSTART:20241103T060000
END:STANDARD
BEGIN:DAYLIGHT
TZOFFSETFROM:-0500
TZOFFSETTO:-0400
TZNAME:EDT
DTSTART:20250309T070000
END:DAYLIGHT
BEGIN:STANDARD
TZOFFSETFROM:-0400
TZOFFSETTO:-0500
TZNAME:EST
DTSTART:20251102T060000
END:STANDARD
BEGIN:DAYLIGHT
TZOFFSETFROM:-0500
TZOFFSETTO:-0400
TZNAME:EDT
DTSTART:20260308T070000
END:DAYLIGHT
BEGIN:STANDARD
TZOFFSETFROM:-0400
TZOFFSETTO:-0500
TZNAME:EST
DTSTART:20261101T060000
END:STANDARD
END:VTIMEZONE
BEGIN:VEVENT
DTSTART;TZID=America/New_York:20250920T130000
DTEND;TZID=America/New_York:20250920T150000
DTSTAMP:20260424T103440
CREATED:20250903T162225Z
LAST-MODIFIED:20250903T162225Z
UID:16517-1758373200-1758380400@cityparksfoundation.org
SUMMARY:It's My Park at Fred Samuel Playground
DESCRIPTION:This It’s My Park season\, volunteer with Save a Park Save a Child to spread mulch in the garden beds around the basketball court and do a general litter cleanup at Fred Samuel Playground. This will help prepare the area possible plantings later in the fall. We look forward to cleaning up the park with you! \nVolunteers should meet at the Basketball courts. \nFor more information\, please email leverne_taylor@yahoo.com.
URL:https://cityparksfoundation.org/events/its-my-park-at-fred-samuel-playground/
LOCATION:Manhattan
CATEGORIES:Volunteer: It's My Park
ATTACH;FMTTYPE=image/jpeg:https://cityparksfoundation.org/wp-content/uploads/2025/02/IMP_widget_2023_centr_2-1-3-1-3-1-1-1-2-2-1-1-2-2-1-1-3-1-2-1-2-1-5-1-2-1-1-1-3-1-1-2-2-5-1-1-5-3-1-3-1-1.jpg
END:VEVENT
END:VCALENDAR