BEGIN:VCALENDAR
VERSION:2.0
PRODID:-//City Parks Foundation - ECPv6.15.18//NONSGML v1.0//EN
CALSCALE:GREGORIAN
METHOD:PUBLISH
X-WR-CALNAME:City Parks Foundation
X-ORIGINAL-URL:https://cityparksfoundation.org
X-WR-CALDESC:Events for City Parks Foundation
REFRESH-INTERVAL;VALUE=DURATION:PT1H
X-Robots-Tag:noindex
X-PUBLISHED-TTL:PT1H
BEGIN:VTIMEZONE
TZID:America/New_York
BEGIN:DAYLIGHT
TZOFFSETFROM:-0500
TZOFFSETTO:-0400
TZNAME:EDT
DTSTART:20240310T070000
END:DAYLIGHT
BEGIN:STANDARD
TZOFFSETFROM:-0400
TZOFFSETTO:-0500
TZNAME:EST
DTSTART:20241103T060000
END:STANDARD
BEGIN:DAYLIGHT
TZOFFSETFROM:-0500
TZOFFSETTO:-0400
TZNAME:EDT
DTSTART:20250309T070000
END:DAYLIGHT
BEGIN:STANDARD
TZOFFSETFROM:-0400
TZOFFSETTO:-0500
TZNAME:EST
DTSTART:20251102T060000
END:STANDARD
BEGIN:DAYLIGHT
TZOFFSETFROM:-0500
TZOFFSETTO:-0400
TZNAME:EDT
DTSTART:20260308T070000
END:DAYLIGHT
BEGIN:STANDARD
TZOFFSETFROM:-0400
TZOFFSETTO:-0500
TZNAME:EST
DTSTART:20261101T060000
END:STANDARD
END:VTIMEZONE
BEGIN:VEVENT
DTSTART;TZID=America/New_York:20251207T110000
DTEND;TZID=America/New_York:20251207T110000
DTSTAMP:20260424T072828
CREATED:20251125T023819Z
LAST-MODIFIED:20251125T023819Z
UID:17622-1765105200-1765105200@cityparksfoundation.org
SUMMARY:It's My Park at Fort Washington Park
DESCRIPTION:This It’s My Park season\, volunteer with Flower for Tomorrow for a general cleanup and planting at Fort Washington Park. Location is the Rocky Run Gardens located inside the park. We look forward to cleaning up the park with you! \nVolunteers should meet at the Rocky Run Gardens which are located in Ft. Washington Park at the intersection of Riverside Drive and West 165th Street. \nFor more information\, please email raf.gonzalez@parks.nyc.gov.
URL:https://cityparksfoundation.org/events/its-my-park-at-fort-washington-park/
LOCATION:Manhattan
CATEGORIES:Volunteer: It's My Park
ATTACH;FMTTYPE=image/jpeg:https://cityparksfoundation.org/wp-content/uploads/2025/02/IMP_widget_2023_centr_1-1-1-1-1-2-1-3-1-2-2-1-1-1-3-2-1-1-3-1-2-1-3-1-5-1-2-1-1-1-3-1-1-1-1-3-3-1-5-4-1-2-1-3.jpg
END:VEVENT
END:VCALENDAR