BEGIN:VCALENDAR
VERSION:2.0
PRODID:-//City Parks Foundation - ECPv6.15.18//NONSGML v1.0//EN
CALSCALE:GREGORIAN
METHOD:PUBLISH
X-WR-CALNAME:City Parks Foundation
X-ORIGINAL-URL:https://cityparksfoundation.org
X-WR-CALDESC:Events for City Parks Foundation
REFRESH-INTERVAL;VALUE=DURATION:PT1H
X-Robots-Tag:noindex
X-PUBLISHED-TTL:PT1H
BEGIN:VTIMEZONE
TZID:America/New_York
BEGIN:DAYLIGHT
TZOFFSETFROM:-0500
TZOFFSETTO:-0400
TZNAME:EDT
DTSTART:20240310T070000
END:DAYLIGHT
BEGIN:STANDARD
TZOFFSETFROM:-0400
TZOFFSETTO:-0500
TZNAME:EST
DTSTART:20241103T060000
END:STANDARD
BEGIN:DAYLIGHT
TZOFFSETFROM:-0500
TZOFFSETTO:-0400
TZNAME:EDT
DTSTART:20250309T070000
END:DAYLIGHT
BEGIN:STANDARD
TZOFFSETFROM:-0400
TZOFFSETTO:-0500
TZNAME:EST
DTSTART:20251102T060000
END:STANDARD
BEGIN:DAYLIGHT
TZOFFSETFROM:-0500
TZOFFSETTO:-0400
TZNAME:EDT
DTSTART:20260308T070000
END:DAYLIGHT
BEGIN:STANDARD
TZOFFSETFROM:-0400
TZOFFSETTO:-0500
TZNAME:EST
DTSTART:20261101T060000
END:STANDARD
END:VTIMEZONE
BEGIN:VEVENT
DTSTART;TZID=America/New_York:20251025T100000
DTEND;TZID=America/New_York:20251025T130000
DTSTAMP:20260424T084644
CREATED:20251006T184733Z
LAST-MODIFIED:20251006T184733Z
UID:17097-1761386400-1761397200@cityparksfoundation.org
SUMMARY:It's My Park at Dorrance Brooks Square
DESCRIPTION:This It’s My Park season\, volunteer with the Dorrance Brooks Square Property Owners & Residents Association to beautify Dorrance Brooks Square. We look gofrward to cleaning up the park with you! \nVolunteers should meet within the park. \nFor more information\, please email info@dorrancebrookspora.org.
URL:https://cityparksfoundation.org/events/its-my-park-at-dorrance-brooks-square/
LOCATION:Manhattan
CATEGORIES:Volunteer: It's My Park
ATTACH;FMTTYPE=image/jpeg:https://cityparksfoundation.org/wp-content/uploads/2025/03/IMP_widget_2023_lft_2-4-1-1-3-1-6-3-5-1-2-2-1-1-3-1-1-1-1-8-1-3-1-1-1-10-1-2-1-1-1-2-1-1-3-1-2-2-6-1-2-1-1-1-1-1.jpg
END:VEVENT
END:VCALENDAR