BEGIN:VCALENDAR
VERSION:2.0
PRODID:-//City Parks Foundation - ECPv6.15.18//NONSGML v1.0//EN
CALSCALE:GREGORIAN
METHOD:PUBLISH
X-WR-CALNAME:City Parks Foundation
X-ORIGINAL-URL:https://cityparksfoundation.org
X-WR-CALDESC:Events for City Parks Foundation
REFRESH-INTERVAL;VALUE=DURATION:PT1H
X-Robots-Tag:noindex
X-PUBLISHED-TTL:PT1H
BEGIN:VTIMEZONE
TZID:America/New_York
BEGIN:DAYLIGHT
TZOFFSETFROM:-0500
TZOFFSETTO:-0400
TZNAME:EDT
DTSTART:20240310T070000
END:DAYLIGHT
BEGIN:STANDARD
TZOFFSETFROM:-0400
TZOFFSETTO:-0500
TZNAME:EST
DTSTART:20241103T060000
END:STANDARD
BEGIN:DAYLIGHT
TZOFFSETFROM:-0500
TZOFFSETTO:-0400
TZNAME:EDT
DTSTART:20250309T070000
END:DAYLIGHT
BEGIN:STANDARD
TZOFFSETFROM:-0400
TZOFFSETTO:-0500
TZNAME:EST
DTSTART:20251102T060000
END:STANDARD
BEGIN:DAYLIGHT
TZOFFSETFROM:-0500
TZOFFSETTO:-0400
TZNAME:EDT
DTSTART:20260308T070000
END:DAYLIGHT
BEGIN:STANDARD
TZOFFSETFROM:-0400
TZOFFSETTO:-0500
TZNAME:EST
DTSTART:20261101T060000
END:STANDARD
END:VTIMEZONE
BEGIN:VEVENT
DTSTART;TZID=America/New_York:20251116T110000
DTEND;TZID=America/New_York:20251116T130000
DTSTAMP:20260421T035947
CREATED:20251106T183251Z
LAST-MODIFIED:20251106T183251Z
UID:17500-1763290800-1763298000@cityparksfoundation.org
SUMMARY:It's My Park at Cherry Tree Park
DESCRIPTION:This It’s My Park season\, volunteer with East 99th Street Block Association to rake some leaves\, do some weeding\, and prepare some tree beds for planting in the spring at Cherry Tree Park. We look forward to cleaning up the park with you! \nVolunteers should meet on the northwest side of East 99th Street and 2nd Avenue.  \nFor more information\, please email alexander.echelman@parks.nyc.gov.
URL:https://cityparksfoundation.org/events/its-my-park-at-cherry-tree-park/
LOCATION:Manhattan
CATEGORIES:Volunteer: It's My Park
ATTACH;FMTTYPE=image/jpeg:https://cityparksfoundation.org/wp-content/uploads/2025/03/IMP_widget_2023_lft_4-4-1-3-1-2-1-2-2-2-2-1-3-1-1-3-1-1-1-1-8-1-4-1-1-1-10-1-2-1-1-3-2-2-1-5-1-1-2-6-4-4-1.jpg
END:VEVENT
END:VCALENDAR