BEGIN:VCALENDAR
VERSION:2.0
PRODID:-//City Parks Foundation - ECPv6.15.18//NONSGML v1.0//EN
CALSCALE:GREGORIAN
METHOD:PUBLISH
X-WR-CALNAME:City Parks Foundation
X-ORIGINAL-URL:https://cityparksfoundation.org
X-WR-CALDESC:Events for City Parks Foundation
REFRESH-INTERVAL;VALUE=DURATION:PT1H
X-Robots-Tag:noindex
X-PUBLISHED-TTL:PT1H
BEGIN:VTIMEZONE
TZID:America/New_York
BEGIN:DAYLIGHT
TZOFFSETFROM:-0500
TZOFFSETTO:-0400
TZNAME:EDT
DTSTART:20240310T070000
END:DAYLIGHT
BEGIN:STANDARD
TZOFFSETFROM:-0400
TZOFFSETTO:-0500
TZNAME:EST
DTSTART:20241103T060000
END:STANDARD
BEGIN:DAYLIGHT
TZOFFSETFROM:-0500
TZOFFSETTO:-0400
TZNAME:EDT
DTSTART:20250309T070000
END:DAYLIGHT
BEGIN:STANDARD
TZOFFSETFROM:-0400
TZOFFSETTO:-0500
TZNAME:EST
DTSTART:20251102T060000
END:STANDARD
BEGIN:DAYLIGHT
TZOFFSETFROM:-0500
TZOFFSETTO:-0400
TZNAME:EDT
DTSTART:20260308T070000
END:DAYLIGHT
BEGIN:STANDARD
TZOFFSETFROM:-0400
TZOFFSETTO:-0500
TZNAME:EST
DTSTART:20261101T060000
END:STANDARD
END:VTIMEZONE
BEGIN:VEVENT
DTSTART;TZID=America/New_York:20251108T113000
DTEND;TZID=America/New_York:20251108T133000
DTSTAMP:20260424T103441
CREATED:20251029T193313Z
LAST-MODIFIED:20251029T193313Z
UID:17362-1762601400-1762608600@cityparksfoundation.org
SUMMARY:It's My Park at Aqueduct Walk
DESCRIPTION:This It’s My Park season\, volunteer with Friends of Aqueduct Walk to do a general cleanup at Aqueduct Walk. We look forward to cleaning up the park with you! \nVolunteers should meet at the Midway\, Roscoe Brown section of the Aqueduct Walk. \nFor more information\, please email Robert.Madera@parks.nyc.gov.
URL:https://cityparksfoundation.org/events/its-my-park-at-aqueduct-walk/
LOCATION:Bronx
CATEGORIES:Volunteer: It's My Park
ATTACH;FMTTYPE=image/jpeg:https://cityparksfoundation.org/wp-content/uploads/2025/02/IMP_widget_2023_centr_2-1-3-1-3-1-1-1-2-2-1-1-2-2-1-1-3-1-2-1-2-1-5-1-2-1-1-1-3-1-1-2-2-5-1-1-5-3-1-3-1-1.jpg
END:VEVENT
END:VCALENDAR