BEGIN:VCALENDAR
VERSION:2.0
PRODID:-//City Parks Foundation - ECPv6.15.18//NONSGML v1.0//EN
CALSCALE:GREGORIAN
METHOD:PUBLISH
X-WR-CALNAME:City Parks Foundation
X-ORIGINAL-URL:https://cityparksfoundation.org
X-WR-CALDESC:Events for City Parks Foundation
REFRESH-INTERVAL;VALUE=DURATION:PT1H
X-Robots-Tag:noindex
X-PUBLISHED-TTL:PT1H
BEGIN:VTIMEZONE
TZID:America/New_York
BEGIN:DAYLIGHT
TZOFFSETFROM:-0500
TZOFFSETTO:-0400
TZNAME:EDT
DTSTART:20250309T070000
END:DAYLIGHT
BEGIN:STANDARD
TZOFFSETFROM:-0400
TZOFFSETTO:-0500
TZNAME:EST
DTSTART:20251102T060000
END:STANDARD
BEGIN:DAYLIGHT
TZOFFSETFROM:-0500
TZOFFSETTO:-0400
TZNAME:EDT
DTSTART:20260308T070000
END:DAYLIGHT
BEGIN:STANDARD
TZOFFSETFROM:-0400
TZOFFSETTO:-0500
TZNAME:EST
DTSTART:20261101T060000
END:STANDARD
BEGIN:DAYLIGHT
TZOFFSETFROM:-0500
TZOFFSETTO:-0400
TZNAME:EDT
DTSTART:20270314T070000
END:DAYLIGHT
BEGIN:STANDARD
TZOFFSETFROM:-0400
TZOFFSETTO:-0500
TZNAME:EST
DTSTART:20271107T060000
END:STANDARD
END:VTIMEZONE
BEGIN:VEVENT
DTSTART;TZID=America/New_York:20260531T110000
DTEND;TZID=America/New_York:20260531T130000
DTSTAMP:20260420T221912
CREATED:20260420T201744Z
LAST-MODIFIED:20260420T201744Z
UID:19646-1780225200-1780232400@cityparksfoundation.org
SUMMARY:It's My Park at Alice Kornegay Triangle
DESCRIPTION:This It’s My Park season\, volunteer with Art in the Park to plant some beautiful pollinator plants to create a new “welcome garden” by the entrance of at Alice Kornegay Triangle. Light litter removal and garden maintenance will also take place. We look forward to cleaning up the park with you! \nVolunteers should meet at the front entrance of the park. \nFor more information\, please email infor@artinthepark128.org.
URL:https://cityparksfoundation.org/events/its-my-park-at-alice-kornegay-triangle-3/
LOCATION:Manhattan
CATEGORIES:Volunteer: It's My Park
ATTACH;FMTTYPE=image/jpeg:https://cityparksfoundation.org/wp-content/uploads/2025/02/IMP_widget_2023_centr_1-1-1-1-1-2-1-3-1-2-2-1-1-1-3-2-1-1-3-1-2-1-3-1-5-1-2-1-1-1-3-1-1-1-1-3-3-1-5-4-1-2-1-3.jpg
END:VEVENT
END:VCALENDAR