BEGIN:VCALENDAR
VERSION:2.0
PRODID:-//City Parks Foundation - ECPv6.15.18//NONSGML v1.0//EN
CALSCALE:GREGORIAN
METHOD:PUBLISH
X-WR-CALNAME:City Parks Foundation
X-ORIGINAL-URL:https://cityparksfoundation.org
X-WR-CALDESC:Events for City Parks Foundation
REFRESH-INTERVAL;VALUE=DURATION:PT1H
X-Robots-Tag:noindex
X-PUBLISHED-TTL:PT1H
BEGIN:VTIMEZONE
TZID:America/New_York
BEGIN:DAYLIGHT
TZOFFSETFROM:-0500
TZOFFSETTO:-0400
TZNAME:EDT
DTSTART:20240310T070000
END:DAYLIGHT
BEGIN:STANDARD
TZOFFSETFROM:-0400
TZOFFSETTO:-0500
TZNAME:EST
DTSTART:20241103T060000
END:STANDARD
BEGIN:DAYLIGHT
TZOFFSETFROM:-0500
TZOFFSETTO:-0400
TZNAME:EDT
DTSTART:20250309T070000
END:DAYLIGHT
BEGIN:STANDARD
TZOFFSETFROM:-0400
TZOFFSETTO:-0500
TZNAME:EST
DTSTART:20251102T060000
END:STANDARD
BEGIN:DAYLIGHT
TZOFFSETFROM:-0500
TZOFFSETTO:-0400
TZNAME:EDT
DTSTART:20260308T070000
END:DAYLIGHT
BEGIN:STANDARD
TZOFFSETFROM:-0400
TZOFFSETTO:-0500
TZNAME:EST
DTSTART:20261101T060000
END:STANDARD
END:VTIMEZONE
BEGIN:VEVENT
DTSTART;TZID=America/New_York:20250819T190000
DTEND;TZID=America/New_York:20250819T220000
DTSTAMP:20260421T054400
CREATED:20250806T201649Z
LAST-MODIFIED:20250806T201649Z
UID:16121-1755630000-1755640800@cityparksfoundation.org
SUMMARY:Harlem Speaks: Bertha Hope
DESCRIPTION:FREE with RSVP \nBertha Hope\, the acclaimed American jazz pianist\, composer\, and educator will be our guest for episode 215 of Harlem Speaks Oral History Series. Hope\, a dynamic performer since the 1950s\, preserves the legacy of her late husband\, Elmo Hope\, while forging her own path in jazz. Known for her lyrical style and commitment to music education\, she remains a vital force in championing women and underrepresented voices in jazz. National Jazz Museum in Harlem Senior Scholar\, Loren Schoenberg\, will host a Harlem Speaks Oral History interview with Hope to discuss her storied career and her take on the impact of Charlie Parker.
URL:https://cityparksfoundation.org/events/harlem-speaks-bertha-hope/
LOCATION:Manhattan
CATEGORIES:Charlie Parker Jazz Festival
ATTACH;FMTTYPE=image/webp:https://cityparksfoundation.org/wp-content/uploads/2025/07/cpjf_logo_web.webp
END:VEVENT
END:VCALENDAR