BEGIN:VCALENDAR
VERSION:2.0
PRODID:-//City Parks Foundation - ECPv6.15.18//NONSGML v1.0//EN
CALSCALE:GREGORIAN
METHOD:PUBLISH
X-WR-CALNAME:City Parks Foundation
X-ORIGINAL-URL:https://cityparksfoundation.org
X-WR-CALDESC:Events for City Parks Foundation
REFRESH-INTERVAL;VALUE=DURATION:PT1H
X-Robots-Tag:noindex
X-PUBLISHED-TTL:PT1H
BEGIN:VTIMEZONE
TZID:America/New_York
BEGIN:DAYLIGHT
TZOFFSETFROM:-0500
TZOFFSETTO:-0400
TZNAME:EDT
DTSTART:20240310T070000
END:DAYLIGHT
BEGIN:STANDARD
TZOFFSETFROM:-0400
TZOFFSETTO:-0500
TZNAME:EST
DTSTART:20241103T060000
END:STANDARD
BEGIN:DAYLIGHT
TZOFFSETFROM:-0500
TZOFFSETTO:-0400
TZNAME:EDT
DTSTART:20250309T070000
END:DAYLIGHT
BEGIN:STANDARD
TZOFFSETFROM:-0400
TZOFFSETTO:-0500
TZNAME:EST
DTSTART:20251102T060000
END:STANDARD
BEGIN:DAYLIGHT
TZOFFSETFROM:-0500
TZOFFSETTO:-0400
TZNAME:EDT
DTSTART:20260308T070000
END:DAYLIGHT
BEGIN:STANDARD
TZOFFSETFROM:-0400
TZOFFSETTO:-0500
TZNAME:EST
DTSTART:20261101T060000
END:STANDARD
END:VTIMEZONE
BEGIN:VEVENT
DTSTART;TZID=America/New_York:20251208T100000
DTEND;TZID=America/New_York:20251208T120000
DTSTAMP:20260424T063337
CREATED:20251113T160004Z
LAST-MODIFIED:20251113T160004Z
UID:10015214-1765188000-1765195200@cityparksfoundation.org
SUMMARY:It's My Park at Stuyvesant Square
DESCRIPTION:This It’s My Park season\, volunteer with Stuyvesant Park Gardeners to perform a general cleanup at Stuyvesant Square. We look forward to cleaning up the park with you! \nVolunteers should meet at East Park planted areas\, including around East Fountain. \nFor more information\, please email stuyparkgardeners@gmail.com.
URL:https://cityparksfoundation.org/events/its-my-park-at-stuyvesant-square-31/
LOCATION:Manhattan
CATEGORIES:Volunteer: It's My Park
ATTACH;FMTTYPE=image/jpeg:https://cityparksfoundation.org/wp-content/uploads/2025/03/IMP_widget_2023_lft_1-2-1-1-2-2-2-1-1-3-4-3-2-3-5-1-1-3-2-1-1-1-16-2-3-1-2-1-10-1-3-1-2-1-2-1-4-1-1-6-2-5-3-1-1-1-4-1-3.jpg
END:VEVENT
BEGIN:VEVENT
DTSTART;TZID=America/New_York:20251209T100000
DTEND;TZID=America/New_York:20251209T113000
DTSTAMP:20260424T063337
CREATED:20251202T193334Z
LAST-MODIFIED:20251202T193334Z
UID:10015252-1765274400-1765279800@cityparksfoundation.org
SUMMARY:It's My Park at McCarren Park
DESCRIPTION:This It’s My Park season\, volunteer with North Brooklyn Dogs to Beautify at McCarren Park. We look forward to cleaning up the park with you! \nVolunteers should meet at McCarren Dog Run. \nFor more information\, please email northbrooklyndogs@gmail.com.
URL:https://cityparksfoundation.org/events/its-my-park-at-mccarren-park-3/
LOCATION:Brooklyn
CATEGORIES:Volunteer: It's My Park
ATTACH;FMTTYPE=image/jpeg:https://cityparksfoundation.org/wp-content/uploads/2025/02/IMP_widget_2023_centr_1-1-1-1-1-2-1-3-1-2-2-1-1-1-3-2-1-1-3-1-2-1-3-1-5-1-2-1-1-1-3-1-1-1-1-3-3-1-5-4-1-2-1-3.jpg
END:VEVENT
BEGIN:VEVENT
DTSTART;TZID=America/New_York:20251209T100000
DTEND;TZID=America/New_York:20251209T120000
DTSTAMP:20260424T063337
CREATED:20251113T160012Z
LAST-MODIFIED:20251113T160012Z
UID:10015219-1765274400-1765281600@cityparksfoundation.org
SUMMARY:It's My Park at Sunset Park
DESCRIPTION:This It’s My Park season\, volunteer with Parent-Child Relationship Association to beautify Sunset Park. We look forward to cleaning up the park with you! \nVolunteers should meet at the Sunset Park Recreation Center.  \nFor more information\, please email volunteer.pcrnyc@gmail.com.
URL:https://cityparksfoundation.org/events/its-my-park-at-sunset-park-28/
LOCATION:Brooklyn
CATEGORIES:Volunteer: It's My Park
ATTACH;FMTTYPE=image/jpeg:https://cityparksfoundation.org/wp-content/uploads/2025/02/IMP_widget_2023_rt_2-2-1-1-2-2-1-1-1-3-1-1-2-1-1-1-7-4-1-1-1-5-1-2-3-1-2-1-1-1-1-2-1-3-2-2-5-2-2-2.jpg
END:VEVENT
BEGIN:VEVENT
DTSTART;TZID=America/New_York:20251213T090000
DTEND;TZID=America/New_York:20251213T120000
DTSTAMP:20260424T063337
CREATED:20251118T203311Z
LAST-MODIFIED:20251118T203311Z
UID:10015243-1765616400-1765627200@cityparksfoundation.org
SUMMARY:It's My Park at Westerleigh Park
DESCRIPTION:This It’s My Park season\, volunteer with Westerleigh Parks Coalition to rake and clean debris around Westerleigh Park. We look forward to cleaning up the park with you! \nVolunteers should meet at the gazebo. \nFor more information\, please email westerleighparkscoailtion@gmail.com.
URL:https://cityparksfoundation.org/events/its-my-park-at-westerleigh-park-19/
LOCATION:Staten Island
CATEGORIES:Volunteer: It's My Park
ATTACH;FMTTYPE=image/jpeg:https://cityparksfoundation.org/wp-content/uploads/2025/03/IMP_widget_2023_lft_4-4-1-3-1-2-1-2-2-2-2-1-3-1-1-3-1-1-1-1-8-1-4-1-1-1-10-1-2-1-1-3-2-2-1-5-1-1-2-6-4-4-1.jpg
END:VEVENT
BEGIN:VEVENT
DTSTART;TZID=America/New_York:20251213T100000
DTEND;TZID=America/New_York:20251213T120000
DTSTAMP:20260424T063337
CREATED:20251113T160111Z
LAST-MODIFIED:20251113T160111Z
UID:10015222-1765620000-1765627200@cityparksfoundation.org
SUMMARY:It's My Park at Leif Ericson Park
DESCRIPTION:This It’s My Park season\, volunteer with Parent-Child Relationship Association to beautify Leif Ericson Park. We look forward to cleaning up the park with you! \nVolunteers should meet at Leif Ericson Park & Square\, 67th Street & 9th Avenue\, Brooklyn\, NY 11220. \nFor more information\, please email volunteer.pcrnyc@gmail.com.
URL:https://cityparksfoundation.org/events/its-my-park-at-leif-ericson-park-20/
LOCATION:Brooklyn
CATEGORIES:Volunteer: It's My Park
ATTACH;FMTTYPE=image/jpeg:https://cityparksfoundation.org/wp-content/uploads/2025/03/IMP_widget_2023_lft_2-4-1-1-3-1-6-3-5-1-2-2-1-1-3-1-1-1-1-8-1-3-1-1-1-10-1-2-1-1-1-2-1-1-3-1-2-2-6-1-2-1-1-1-1-1.jpg
END:VEVENT
BEGIN:VEVENT
DTSTART;TZID=America/New_York:20251214T010000
DTEND;TZID=America/New_York:20251214T033000
DTSTAMP:20260424T063337
CREATED:20251029T193715Z
LAST-MODIFIED:20251029T193715Z
UID:10015161-1765674000-1765683000@cityparksfoundation.org
SUMMARY:It's My Park at Ewen Park
DESCRIPTION:This It’s My Park season\, volunteer with Stewards of Ewen Park to do some fall work\, including planting\, mulching\, watering\, and as always\, trash pickup at Ewen Park. We look forward to cleaning up the park with you! \nVolunteers should meet at the tool box next to the dog run. \nFor more information\, please email masonjenkins100@yahoo.com.
URL:https://cityparksfoundation.org/events/its-my-park-at-ewen-park-13/
LOCATION:Bronx
CATEGORIES:Volunteer: It's My Park
ATTACH;FMTTYPE=image/jpeg:https://cityparksfoundation.org/wp-content/uploads/2025/02/IMP_widget_2023_centr_2-1-3-1-3-1-1-1-2-2-1-1-2-2-1-1-3-1-2-1-2-1-5-1-2-1-1-1-3-1-1-2-2-5-1-1-5-3-1-3-1-1.jpg
END:VEVENT
BEGIN:VEVENT
DTSTART;TZID=America/New_York:20251214T093000
DTEND;TZID=America/New_York:20251214T110000
DTSTAMP:20260424T063337
CREATED:20251202T193337Z
LAST-MODIFIED:20251202T193337Z
UID:10015254-1765704600-1765710000@cityparksfoundation.org
SUMMARY:It's My Park at Forest Park
DESCRIPTION:This It’s My Park season\, volunteer with Kew Kids Forest School to clean up at Forest Park. We look forward to cleaning up the park with you! \nVolunteers should meet at Wallenberg Square at the corner of Metropolitan and Park Lane South. \nFor more information\, please email kewkidsforest@gmail.com.
URL:https://cityparksfoundation.org/events/its-my-park-at-forest-park-8/
LOCATION:Queens
CATEGORIES:Volunteer: It's My Park
ATTACH;FMTTYPE=image/jpeg:https://cityparksfoundation.org/wp-content/uploads/2025/02/IMP_widget_2023_centr_2-1-3-1-3-1-1-1-2-2-1-1-2-2-1-1-3-1-2-1-2-1-5-1-2-1-1-1-3-1-1-2-2-5-1-1-5-3-1-3-1-1.jpg
END:VEVENT
BEGIN:VEVENT
DTSTART;TZID=America/New_York:20251214T100000
DTEND;TZID=America/New_York:20251214T120000
DTSTAMP:20260424T063337
CREATED:20251113T160112Z
LAST-MODIFIED:20251113T160112Z
UID:10015223-1765706400-1765713600@cityparksfoundation.org
SUMMARY:It's My Park at Sunset Park
DESCRIPTION:This It’s My Park season\, volunteer with Parent-Child Relationship Association to beautify Sunset Park. We look forward to cleaning up the park with you! \nVolunteers should meet at the Sunset Park Recreation Center.  \nFor more information\, please email volunteer.pcrnyc@gmail.com.
URL:https://cityparksfoundation.org/events/its-my-park-at-sunset-park-30/
LOCATION:Brooklyn
CATEGORIES:Volunteer: It's My Park
ATTACH;FMTTYPE=image/jpeg:https://cityparksfoundation.org/wp-content/uploads/2025/02/IMP_widget_2023_centr_1-1-1-1-1-2-1-3-1-2-2-1-1-1-3-2-1-1-3-1-2-1-3-1-5-1-2-1-1-1-3-1-1-1-1-3-3-1-5-4-1-2-1-3.jpg
END:VEVENT
BEGIN:VEVENT
DTSTART;TZID=America/New_York:20251214T100000
DTEND;TZID=America/New_York:20251214T120000
DTSTAMP:20260424T063337
CREATED:20251113T160311Z
LAST-MODIFIED:20251113T160520Z
UID:10015227-1765706400-1765713600@cityparksfoundation.org
SUMMARY:It's My Park at McKinley Park
DESCRIPTION:This It’s My Park season\, volunteer with Parent-Child Relationship Association to beautify McKinley Park. We look forward to cleaning up the park with you! \nVolunteers should meet at 9th Ave and 67th St.  \nFor more information\, please email volunteer.pcrnyc@gmail.com.
URL:https://cityparksfoundation.org/events/its-my-park-at-mckinley-park-17/
LOCATION:Brooklyn
CATEGORIES:Volunteer: It's My Park
ATTACH;FMTTYPE=image/jpeg:https://cityparksfoundation.org/wp-content/uploads/2025/02/IMP_widget_2023_rt_3-2-1-2-1-1-1-1-1-1-2-1-1-1-2-1-1-1-1-8-1-2-1-1-1-5-1-2-1-1-1-3-1-2-1-1-3-3-1-2-4-2-2-3.jpg
END:VEVENT
END:VCALENDAR