BEGIN:VCALENDAR
VERSION:2.0
PRODID:-//City Parks Foundation - ECPv6.15.18//NONSGML v1.0//EN
CALSCALE:GREGORIAN
METHOD:PUBLISH
X-WR-CALNAME:City Parks Foundation
X-ORIGINAL-URL:https://cityparksfoundation.org
X-WR-CALDESC:Events for City Parks Foundation
REFRESH-INTERVAL;VALUE=DURATION:PT1H
X-Robots-Tag:noindex
X-PUBLISHED-TTL:PT1H
BEGIN:VTIMEZONE
TZID:America/New_York
BEGIN:DAYLIGHT
TZOFFSETFROM:-0500
TZOFFSETTO:-0400
TZNAME:EDT
DTSTART:20250309T070000
END:DAYLIGHT
BEGIN:STANDARD
TZOFFSETFROM:-0400
TZOFFSETTO:-0500
TZNAME:EST
DTSTART:20251102T060000
END:STANDARD
BEGIN:DAYLIGHT
TZOFFSETFROM:-0500
TZOFFSETTO:-0400
TZNAME:EDT
DTSTART:20260308T070000
END:DAYLIGHT
BEGIN:STANDARD
TZOFFSETFROM:-0400
TZOFFSETTO:-0500
TZNAME:EST
DTSTART:20261101T060000
END:STANDARD
BEGIN:DAYLIGHT
TZOFFSETFROM:-0500
TZOFFSETTO:-0400
TZNAME:EDT
DTSTART:20270314T070000
END:DAYLIGHT
BEGIN:STANDARD
TZOFFSETFROM:-0400
TZOFFSETTO:-0500
TZNAME:EST
DTSTART:20271107T060000
END:STANDARD
END:VTIMEZONE
BEGIN:VEVENT
DTSTART;TZID=America/New_York:20260912T190000
DTEND;TZID=America/New_York:20260912T220000
DTSTAMP:20260420T234916
CREATED:20260309T145931Z
LAST-MODIFIED:20260318T204426Z
UID:10015419-1789239600-1789250400@cityparksfoundation.org
SUMMARY:Darling Blue PT2 Tour: Marcus King Band / Penelope Road
DESCRIPTION:SummerStage Member Presale: Thursday\, March 12 at 10AM\nCapital One Cardholder Presale: Wednesday\, March 11 at 10AM\nGeneral on-sale: Friday\, March 13 at 10AM \nGRAMMY-nominated country artist Marcus King is hitting the road with his longtime live band on the Darling Blue PT2 Tour\, a reunion eight years in the making. His upcoming album\, Darling Blue\, features a who’s who of country music such as Billy Strings and Kaitlin Butts.  His twangy\, guitar-heavy songs like “Wildflowers and Wine” and “Homesick” tend to be love letters offering appreciation for his home state of South Carolina and his southern roots. Atlanta-born band Penelope Road will open the evening.
URL:https://cityparksfoundation.org/events/marcus-king-band/
LOCATION:Manhattan
CATEGORIES:SummerStage
ATTACH;FMTTYPE=image/webp:https://cityparksfoundation.org/wp-content/uploads/2026/03/Static_Social-Facebook_1200x630_MarcusKingBand_2026_Regional_SummerStageinCentralPark_0912.webp
END:VEVENT
BEGIN:VEVENT
DTSTART;TZID=America/New_York:20261001T190000
DTEND;TZID=America/New_York:20261001T220000
DTSTAMP:20260420T234916
CREATED:20260303T150007Z
LAST-MODIFIED:20260305T152405Z
UID:10015382-1790881200-1790892000@cityparksfoundation.org
SUMMARY:The Age of the Ram Tour: Charley Crockett with special guests Durand Jones and the Indications
DESCRIPTION:SummerStage Member Presale: Thursday\, March 5 at 12PM \nCapital One Cardholder Presale: Tuesday\, March 3 at 11AM  \nGeneral on-sale: Friday\, March 6 at 10AM \n“Street busker turned critically acclaimed singer-songwriter turned actual country star” (Rolling Stone)\, Charley Crockett’s particular brand of country has earned him millions of streams and several GRAMMY nominations. His deep voice and Americana style on songs like “Lonesome Drifter” and “I’m Just a Clown” evoke a version of the country filled with tumbleweeds and cowboys. He’s played across the U.S. at venues including Red Rocks\, the Hollywood Bowl\, and even SummerStage in 2022\, when he opened for Willie Nelson. Durand Jones and the Indications will open the evening. \nCharley Crockett\, in partnership with PLUS1\, will contribute $1.00 from every ticket sold to Last Prisoner Project.
URL:https://cityparksfoundation.org/events/charley-crockett/
LOCATION:Manhattan
CATEGORIES:SummerStage
ATTACH;FMTTYPE=image/webp:https://cityparksfoundation.org/wp-content/uploads/2026/03/Static_Social-FacebookPR_1200x630_CharleyCrockett_2026_Regional_SummerStageinCentralPark_1001.webp
END:VEVENT
END:VCALENDAR