BEGIN:VCALENDAR
VERSION:2.0
PRODID:-//City Parks Foundation - ECPv6.15.18//NONSGML v1.0//EN
CALSCALE:GREGORIAN
METHOD:PUBLISH
X-ORIGINAL-URL:https://cityparksfoundation.org
X-WR-CALDESC:Events for City Parks Foundation
REFRESH-INTERVAL;VALUE=DURATION:PT1H
X-Robots-Tag:noindex
X-PUBLISHED-TTL:PT1H
BEGIN:VTIMEZONE
TZID:America/New_York
BEGIN:DAYLIGHT
TZOFFSETFROM:-0500
TZOFFSETTO:-0400
TZNAME:EDT
DTSTART:20250309T070000
END:DAYLIGHT
BEGIN:STANDARD
TZOFFSETFROM:-0400
TZOFFSETTO:-0500
TZNAME:EST
DTSTART:20251102T060000
END:STANDARD
BEGIN:DAYLIGHT
TZOFFSETFROM:-0500
TZOFFSETTO:-0400
TZNAME:EDT
DTSTART:20260308T070000
END:DAYLIGHT
BEGIN:STANDARD
TZOFFSETFROM:-0400
TZOFFSETTO:-0500
TZNAME:EST
DTSTART:20261101T060000
END:STANDARD
BEGIN:DAYLIGHT
TZOFFSETFROM:-0500
TZOFFSETTO:-0400
TZNAME:EDT
DTSTART:20270314T070000
END:DAYLIGHT
BEGIN:STANDARD
TZOFFSETFROM:-0400
TZOFFSETTO:-0500
TZNAME:EST
DTSTART:20271107T060000
END:STANDARD
END:VTIMEZONE
BEGIN:VEVENT
DTSTART;TZID=America/New_York:20260606T100000
DTEND;TZID=America/New_York:20260606T120000
DTSTAMP:20260424T230914
CREATED:20260414T135246Z
LAST-MODIFIED:20260414T135246Z
UID:10015607-1780740000-1780747200@cityparksfoundation.org
SUMMARY:It's My Park at Tompkins Square Park
DESCRIPTION:It’s My Park season\, volunteer with Friends of Tompkins Square Park to plant plants at Tompkins Square Park. We look forward to cleaning up the park with you! \nVolunteers should meet at the Field House between Avenue A & B near the 9th St entrance. \nFor more information\, please email info@friendsoftompkinssquarepark.org.
URL:https://cityparksfoundation.org/events/its-my-park-at-tompkins-square-park-19/
LOCATION:Manhattan
CATEGORIES:Volunteer: It's My Park
ATTACH;FMTTYPE=image/jpeg:https://cityparksfoundation.org/wp-content/uploads/2025/03/IMP_widget_2023_lft_2-4-1-1-3-1-6-3-5-1-2-2-1-1-3-1-1-1-1-8-1-3-1-1-1-10-1-2-1-1-1-2-1-1-3-1-2-2-6-1-2-1-1-1-1-1.jpg
END:VEVENT
BEGIN:VEVENT
DTSTART;TZID=America/New_York:20260606T100000
DTEND;TZID=America/New_York:20260606T120000
DTSTAMP:20260424T230914
CREATED:20260420T202249Z
LAST-MODIFIED:20260420T202249Z
UID:10015641-1780740000-1780747200@cityparksfoundation.org
SUMMARY:It's My Park at Montefiore Square
DESCRIPTION:This It’s My Park season\, volunteer with Montefiore Park Neighborhood Association to plant sun-loving pollinator plants and generally clean up the garden beds at Montefiore Square Park. We look forward to cleaning up the park with you! \nVolunteers should meet at 137th St & Broadway in Montefiore Park\, near the kiosk. \nFor more information\, please email montefiorepark137@gmail.com.
URL:https://cityparksfoundation.org/events/its-my-park-at-montefiore-square-7/
LOCATION:Manhattan
CATEGORIES:Volunteer: It's My Park
ATTACH;FMTTYPE=image/jpeg:https://cityparksfoundation.org/wp-content/uploads/2025/02/IMP_widget_2023_centr_1-1-1-1-1-2-1-3-1-2-2-1-1-1-3-2-1-1-3-1-2-1-3-1-5-1-2-1-1-1-3-1-1-1-1-3-3-1-5-4-1-2-1-3.jpg
END:VEVENT
BEGIN:VEVENT
DTSTART;TZID=America/New_York:20260606T100000
DTEND;TZID=America/New_York:20260606T123000
DTSTAMP:20260424T230914
CREATED:20260420T201850Z
LAST-MODIFIED:20260420T201850Z
UID:10015634-1780740000-1780749000@cityparksfoundation.org
SUMMARY:It's My Park at Dorrance Brooks Square
DESCRIPTION:This It’s My Park season\, volunteer with Dorrance Brooks Property Owners to plant some beautiful pollinator plants and support in garden maintenance at Dorrance Brooks Square. We look forward to cleaning up the park with you! \nVolunteers should meet at the square. We’ll be working throughout Dorrance Brooks Square Park’s green spaces\, walkways and around park benches. \nFor more information\, please email info@dorrancebrookspora.org.
URL:https://cityparksfoundation.org/events/its-my-park-at-dorrance-brooks-square-2/
LOCATION:Manhattan
CATEGORIES:Volunteer: It's My Park
ATTACH;FMTTYPE=image/jpeg:https://cityparksfoundation.org/wp-content/uploads/2025/03/IMP_widget_2023_lft_1-2-1-1-2-2-2-1-1-3-4-3-2-3-5-1-1-3-2-1-1-1-16-2-3-1-2-1-10-1-3-1-2-1-2-1-4-1-1-6-2-5-3-1-1-1-4-1-3.jpg
END:VEVENT
BEGIN:VEVENT
DTSTART;TZID=America/New_York:20260607T100000
DTEND;TZID=America/New_York:20260607T120000
DTSTAMP:20260424T230914
CREATED:20260414T135140Z
LAST-MODIFIED:20260414T135140Z
UID:10015596-1780826400-1780833600@cityparksfoundation.org
SUMMARY:It's My Park at Owl's Head Park
DESCRIPTION:This It’s My Park season\, volunteer with Owl’s Head Park Volunteers to beautify Owl’s Head Park. Volunteers will be working on cleaning the gardens on the Overlook at the top of the hill and spreading mulch around trees. We look forward to cleaning up the park with you! \nVolunteers should meet at the overlook at the top of the hill. \nFor more information\, please email owlsheadvolunteer@gmail.com.
URL:https://cityparksfoundation.org/events/its-my-park-at-owls-head-park-17/
LOCATION:Brooklyn
CATEGORIES:Volunteer: It's My Park
ATTACH;FMTTYPE=image/jpeg:https://cityparksfoundation.org/wp-content/uploads/2025/02/IMP_widget_2023_centr_2-1-3-1-3-1-1-1-2-2-1-1-2-2-1-1-3-1-2-1-2-1-5-1-2-1-1-1-3-1-1-2-2-5-1-1-5-3-1-3-1-1.jpg
END:VEVENT
BEGIN:VEVENT
DTSTART;TZID=America/New_York:20260607T103000
DTEND;TZID=America/New_York:20260607T133000
DTSTAMP:20260424T230914
CREATED:20260414T135246Z
LAST-MODIFIED:20260414T135246Z
UID:10015606-1780828200-1780839000@cityparksfoundation.org
SUMMARY:It's My Park at Father Fagan Park
DESCRIPTION:It’s My Park season. Volunteer with Friends of Father Fagan Park to beautify Father Fagan Park. We look forward to cleaning up the park with you! \nVolunteers should meet in the park. \nFor more information\, please email fatherfaganpark@gmail.com.
URL:https://cityparksfoundation.org/events/its-my-park-at-father-fagan-park/
LOCATION:Manhattan
CATEGORIES:Volunteer: It's My Park
ATTACH;FMTTYPE=image/jpeg:https://cityparksfoundation.org/wp-content/uploads/2025/02/IMP_widget_2023_centr_2-1-3-1-3-1-1-1-2-2-1-1-2-2-1-1-3-1-2-1-2-1-5-1-2-1-1-1-3-1-1-2-2-5-1-1-5-3-1-3-1-1.jpg
END:VEVENT
BEGIN:VEVENT
DTSTART;TZID=America/New_York:20260613T090000
DTEND;TZID=America/New_York:20260613T120000
DTSTAMP:20260424T230914
CREATED:20260420T202050Z
LAST-MODIFIED:20260420T202050Z
UID:10015637-1781341200-1781352000@cityparksfoundation.org
SUMMARY:It's My Park at Westerleigh Park
DESCRIPTION:This It’s My Park season\, volunteer with Westerleigh Parks Coalition to rake leaves and clean debris around Westerleigh Park. We look forward to cleaning up the park with you! \nVolunteers should meet at the center of the park. \nFor more information\, please email westerleighparkscoalition@gmail.com.
URL:https://cityparksfoundation.org/events/its-my-park-at-westerleigh-park-26/
LOCATION:Staten Island
CATEGORIES:Volunteer: It's My Park
ATTACH;FMTTYPE=image/jpeg:https://cityparksfoundation.org/wp-content/uploads/2025/02/IMP_widget_2023_centr_1-1-1-1-1-2-1-3-1-2-2-1-1-1-3-2-1-1-3-1-2-1-3-1-5-1-2-1-1-1-3-1-1-1-1-3-3-1-5-4-1-2-1-3.jpg
END:VEVENT
BEGIN:VEVENT
DTSTART;TZID=America/New_York:20260613T100000
DTEND;TZID=America/New_York:20260613T140000
DTSTAMP:20260424T230914
CREATED:20260420T202051Z
LAST-MODIFIED:20260420T202051Z
UID:10015638-1781344800-1781359200@cityparksfoundation.org
SUMMARY:It's My Park at Seabury Playground
DESCRIPTION:This It’s My Park season\, volunteer with Synergi Healing; Mind; Body; Spirit to maintain the garden and do a general cleanup at Seabury Playground. We look forward to cleaning up the park with you! \nVolunteers should meet at the park. \nFor more information\, please email mjohnson@eastbronxacademy.org.
URL:https://cityparksfoundation.org/events/its-my-park-at-seabury-playground-2/
LOCATION:Bronx
CATEGORIES:Volunteer: It's My Park
ATTACH;FMTTYPE=image/jpeg:https://cityparksfoundation.org/wp-content/uploads/2025/03/IMP_widget_2023_lft_2-4-1-1-3-1-6-3-5-1-2-2-1-1-3-1-1-1-1-8-1-3-1-1-1-10-1-2-1-1-1-2-1-1-3-1-2-2-6-1-2-1-1-1-1-1.jpg
END:VEVENT
END:VCALENDAR