BEGIN:VCALENDAR
VERSION:2.0
PRODID:-//City Parks Foundation - ECPv6.15.18//NONSGML v1.0//EN
CALSCALE:GREGORIAN
METHOD:PUBLISH
X-ORIGINAL-URL:https://cityparksfoundation.org
X-WR-CALDESC:Events for City Parks Foundation
REFRESH-INTERVAL;VALUE=DURATION:PT1H
X-Robots-Tag:noindex
X-PUBLISHED-TTL:PT1H
BEGIN:VTIMEZONE
TZID:America/New_York
BEGIN:DAYLIGHT
TZOFFSETFROM:-0500
TZOFFSETTO:-0400
TZNAME:EDT
DTSTART:20240310T070000
END:DAYLIGHT
BEGIN:STANDARD
TZOFFSETFROM:-0400
TZOFFSETTO:-0500
TZNAME:EST
DTSTART:20241103T060000
END:STANDARD
BEGIN:DAYLIGHT
TZOFFSETFROM:-0500
TZOFFSETTO:-0400
TZNAME:EDT
DTSTART:20250309T070000
END:DAYLIGHT
BEGIN:STANDARD
TZOFFSETFROM:-0400
TZOFFSETTO:-0500
TZNAME:EST
DTSTART:20251102T060000
END:STANDARD
BEGIN:DAYLIGHT
TZOFFSETFROM:-0500
TZOFFSETTO:-0400
TZNAME:EDT
DTSTART:20260308T070000
END:DAYLIGHT
BEGIN:STANDARD
TZOFFSETFROM:-0400
TZOFFSETTO:-0500
TZNAME:EST
DTSTART:20261101T060000
END:STANDARD
END:VTIMEZONE
BEGIN:VEVENT
DTSTART;TZID=America/New_York:20250802T110000
DTEND;TZID=America/New_York:20250802T120000
DTSTAMP:20260419T110011
CREATED:20250801T125351Z
LAST-MODIFIED:20250801T125351Z
UID:10014882-1754132400-1754136000@cityparksfoundation.org
SUMMARY:CityParks PuppetMobile: Pippi Longstocking
DESCRIPTION:City Parks Foundation is celebrating the 80th anniversary of the world-renowned children’s story Pippi Longstocking by the legendary Swedish author Astrid Lindgren. To honor this milestone\, our traveling marionette theater\, the PuppetMobile\, will present Pippi\, a fresh retelling of the classic Swedish tale. \nThe production features nearly two dozen\, hand-made marionettes crafted by the expert puppeteers. In addition to the brilliant artistry of the production\, kids and families will enjoy the incredible adventures of quick-witted and super-strong Pippi as she overcomes bullies\, all while fending off unnecessary social conventions.
URL:https://cityparksfoundation.org/events/cityparks-puppetmobile-pippi-longstocking-29/
LOCATION:Queens
CATEGORIES:PuppetMobile
ATTACH;FMTTYPE=image/webp:https://cityparksfoundation.org/wp-content/uploads/2025/04/Pippi-Web-Asset.webp
END:VEVENT
BEGIN:VEVENT
DTSTART;TZID=America/New_York:20250803T133000
DTEND;TZID=America/New_York:20250803T143000
DTSTAMP:20260419T110011
CREATED:20250801T125351Z
LAST-MODIFIED:20250801T125351Z
UID:10014883-1754227800-1754231400@cityparksfoundation.org
SUMMARY:CityParks PuppetMobile: Pippi Longstocking
DESCRIPTION:City Parks Foundation is celebrating the 80th anniversary of the world-renowned children’s story Pippi Longstocking by the legendary Swedish author Astrid Lindgren. To honor this milestone\, our traveling marionette theater\, the PuppetMobile\, will present Pippi\, a fresh retelling of the classic Swedish tale. \nThe production features nearly two dozen\, hand-made marionettes crafted by the expert puppeteers. In addition to the brilliant artistry of the production\, kids and families will enjoy the incredible adventures of quick-witted and super-strong Pippi as she overcomes bullies\, all while fending off unnecessary social conventions.
URL:https://cityparksfoundation.org/events/cityparks-puppetmobile-pippi-longstocking-30/
LOCATION:Queens
CATEGORIES:PuppetMobile
ATTACH;FMTTYPE=image/webp:https://cityparksfoundation.org/wp-content/uploads/2025/04/Pippi-Web-Asset.webp
END:VEVENT
BEGIN:VEVENT
DTSTART;TZID=America/New_York:20250805T110000
DTEND;TZID=America/New_York:20250805T120000
DTSTAMP:20260419T110011
CREATED:20250801T125352Z
LAST-MODIFIED:20250801T125352Z
UID:10014884-1754391600-1754395200@cityparksfoundation.org
SUMMARY:CityParks PuppetMobile: Pippi Longstocking
DESCRIPTION:City Parks Foundation is celebrating the 80th anniversary of the world-renowned children’s story Pippi Longstocking by the legendary Swedish author Astrid Lindgren. To honor this milestone\, our traveling marionette theater\, the PuppetMobile\, will present Pippi\, a fresh retelling of the classic Swedish tale. \nThe production features nearly two dozen\, hand-made marionettes crafted by the expert puppeteers. In addition to the brilliant artistry of the production\, kids and families will enjoy the incredible adventures of quick-witted and super-strong Pippi as she overcomes bullies\, all while fending off unnecessary social conventions.
URL:https://cityparksfoundation.org/events/cityparks-puppetmobile-pippi-longstocking-31/
LOCATION:Staten Island
CATEGORIES:PuppetMobile
ATTACH;FMTTYPE=image/webp:https://cityparksfoundation.org/wp-content/uploads/2025/04/Pippi-Web-Asset.webp
END:VEVENT
BEGIN:VEVENT
DTSTART;TZID=America/New_York:20250806T110000
DTEND;TZID=America/New_York:20250806T120000
DTSTAMP:20260419T110011
CREATED:20250801T125352Z
LAST-MODIFIED:20250801T125352Z
UID:10014885-1754478000-1754481600@cityparksfoundation.org
SUMMARY:CityParks PuppetMobile: Pippi Longstocking
DESCRIPTION:City Parks Foundation is celebrating the 80th anniversary of the world-renowned children’s story Pippi Longstocking by the legendary Swedish author Astrid Lindgren. To honor this milestone\, our traveling marionette theater\, the PuppetMobile\, will present Pippi\, a fresh retelling of the classic Swedish tale. \nThe production features nearly two dozen\, hand-made marionettes crafted by the expert puppeteers. In addition to the brilliant artistry of the production\, kids and families will enjoy the incredible adventures of quick-witted and super-strong Pippi as she overcomes bullies\, all while fending off unnecessary social conventions.
URL:https://cityparksfoundation.org/events/cityparks-puppetmobile-pippi-longstocking-32/
LOCATION:Brooklyn
CATEGORIES:PuppetMobile
ATTACH;FMTTYPE=image/webp:https://cityparksfoundation.org/wp-content/uploads/2025/04/Pippi-Web-Asset.webp
END:VEVENT
BEGIN:VEVENT
DTSTART;TZID=America/New_York:20250808T120000
DTEND;TZID=America/New_York:20250808T130000
DTSTAMP:20260419T110011
CREATED:20250801T125353Z
LAST-MODIFIED:20250801T125353Z
UID:10014886-1754654400-1754658000@cityparksfoundation.org
SUMMARY:CityParks PuppetMobile: Pippi Longstocking
DESCRIPTION:City Parks Foundation is celebrating the 80th anniversary of the world-renowned children’s story Pippi Longstocking by the legendary Swedish author Astrid Lindgren. To honor this milestone\, our traveling marionette theater\, the PuppetMobile\, will present Pippi\, a fresh retelling of the classic Swedish tale. \nThe production features nearly two dozen\, hand-made marionettes crafted by the expert puppeteers. In addition to the brilliant artistry of the production\, kids and families will enjoy the incredible adventures of quick-witted and super-strong Pippi as she overcomes bullies\, all while fending off unnecessary social conventions.
URL:https://cityparksfoundation.org/events/cityparks-puppetmobile-pippi-longstocking-33/
LOCATION:Brooklyn
CATEGORIES:PuppetMobile
ATTACH;FMTTYPE=image/webp:https://cityparksfoundation.org/wp-content/uploads/2025/04/Pippi-Web-Asset.webp
END:VEVENT
BEGIN:VEVENT
DTSTART;TZID=America/New_York:20250814T100000
DTEND;TZID=America/New_York:20250814T110000
DTSTAMP:20260419T110011
CREATED:20250801T125356Z
LAST-MODIFIED:20250801T125356Z
UID:10014888-1755165600-1755169200@cityparksfoundation.org
SUMMARY:CityParks PuppetMobile: Pippi Longstocking
DESCRIPTION:City Parks Foundation is celebrating the 80th anniversary of the world-renowned children’s story Pippi Longstocking by the legendary Swedish author Astrid Lindgren. To honor this milestone\, our traveling marionette theater\, the PuppetMobile\, will present Pippi\, a fresh retelling of the classic Swedish tale. \nThe production features nearly two dozen\, hand-made marionettes crafted by the expert puppeteers. In addition to the brilliant artistry of the production\, kids and families will enjoy the incredible adventures of quick-witted and super-strong Pippi as she overcomes bullies\, all while fending off unnecessary social conventions.
URL:https://cityparksfoundation.org/events/cityparks-puppetmobile-pippi-longstocking-35/
LOCATION:Manhattan
CATEGORIES:PuppetMobile
ATTACH;FMTTYPE=image/webp:https://cityparksfoundation.org/wp-content/uploads/2025/04/Pippi-Web-Asset.webp
END:VEVENT
BEGIN:VEVENT
DTSTART;TZID=America/New_York:20250816T130000
DTEND;TZID=America/New_York:20250816T140000
DTSTAMP:20260419T110011
CREATED:20250801T125357Z
LAST-MODIFIED:20250801T125357Z
UID:10014889-1755349200-1755352800@cityparksfoundation.org
SUMMARY:CityParks PuppetMobile: Pippi Longstocking
DESCRIPTION:City Parks Foundation is celebrating the 80th anniversary of the world-renowned children’s story Pippi Longstocking by the legendary Swedish author Astrid Lindgren. To honor this milestone\, our traveling marionette theater\, the PuppetMobile\, will present Pippi\, a fresh retelling of the classic Swedish tale. \nThe production features nearly two dozen\, hand-made marionettes crafted by the expert puppeteers. In addition to the brilliant artistry of the production\, kids and families will enjoy the incredible adventures of quick-witted and super-strong Pippi as she overcomes bullies\, all while fending off unnecessary social conventions.
URL:https://cityparksfoundation.org/events/cityparks-puppetmobile-pippi-longstocking-36/
LOCATION:Bronx
CATEGORIES:PuppetMobile
ATTACH;FMTTYPE=image/webp:https://cityparksfoundation.org/wp-content/uploads/2025/04/Pippi-Web-Asset.webp
END:VEVENT
BEGIN:VEVENT
DTSTART;TZID=America/New_York:20250819T130000
DTEND;TZID=America/New_York:20250819T140000
DTSTAMP:20260419T110011
CREATED:20250801T125358Z
LAST-MODIFIED:20250801T125358Z
UID:10014890-1755608400-1755612000@cityparksfoundation.org
SUMMARY:CityParks PuppetMobile: Pippi Longstocking
DESCRIPTION:City Parks Foundation is celebrating the 80th anniversary of the world-renowned children’s story Pippi Longstocking by the legendary Swedish author Astrid Lindgren. To honor this milestone\, our traveling marionette theater\, the PuppetMobile\, will present Pippi\, a fresh retelling of the classic Swedish tale. \nThe production features nearly two dozen\, hand-made marionettes crafted by the expert puppeteers. In addition to the brilliant artistry of the production\, kids and families will enjoy the incredible adventures of quick-witted and super-strong Pippi as she overcomes bullies\, all while fending off unnecessary social conventions.
URL:https://cityparksfoundation.org/events/cityparks-puppetmobile-pippi-longstocking-37/
LOCATION:Brooklyn
CATEGORIES:PuppetMobile
ATTACH;FMTTYPE=image/webp:https://cityparksfoundation.org/wp-content/uploads/2025/04/Pippi-Web-Asset.webp
END:VEVENT
BEGIN:VEVENT
DTSTART;TZID=America/New_York:20250822T110000
DTEND;TZID=America/New_York:20250822T120000
DTSTAMP:20260419T110011
CREATED:20250801T125358Z
LAST-MODIFIED:20250801T125358Z
UID:10014891-1755860400-1755864000@cityparksfoundation.org
SUMMARY:CityParks PuppetMobile: Pippi Longstocking
DESCRIPTION:City Parks Foundation is celebrating the 80th anniversary of the world-renowned children’s story Pippi Longstocking by the legendary Swedish author Astrid Lindgren. To honor this milestone\, our traveling marionette theater\, the PuppetMobile\, will present Pippi\, a fresh retelling of the classic Swedish tale. \nThe production features nearly two dozen\, hand-made marionettes crafted by the expert puppeteers. In addition to the brilliant artistry of the production\, kids and families will enjoy the incredible adventures of quick-witted and super-strong Pippi as she overcomes bullies\, all while fending off unnecessary social conventions.
URL:https://cityparksfoundation.org/events/cityparks-puppetmobile-pippi-longstocking-38/
LOCATION:Brooklyn
CATEGORIES:PuppetMobile
ATTACH;FMTTYPE=image/webp:https://cityparksfoundation.org/wp-content/uploads/2025/04/Pippi-Web-Asset.webp
END:VEVENT
BEGIN:VEVENT
DTSTART;TZID=America/New_York:20250823T110000
DTEND;TZID=America/New_York:20250823T120000
DTSTAMP:20260419T110011
CREATED:20250801T125456Z
LAST-MODIFIED:20250815T210443Z
UID:10014892-1755946800-1755950400@cityparksfoundation.org
SUMMARY:CityParks PuppetMobile: Pippi Longstocking
DESCRIPTION:City Parks Foundation is celebrating the 80th anniversary of the world-renowned children’s story Pippi Longstocking by the legendary Swedish author Astrid Lindgren. To honor this milestone\, our traveling marionette theater\, the PuppetMobile\, will present Pippi\, a fresh retelling of the classic Swedish tale. \nThe production features nearly two dozen\, hand-made marionettes crafted by the expert puppeteers. In addition to the brilliant artistry of the production\, kids and families will enjoy the incredible adventures of quick-witted and super-strong Pippi as she overcomes bullies\, all while fending off unnecessary social conventions.
URL:https://cityparksfoundation.org/events/cityparks-puppetmobile-pippi-longstocking-39/
LOCATION:Queens
CATEGORIES:PuppetMobile
ATTACH;FMTTYPE=image/webp:https://cityparksfoundation.org/wp-content/uploads/2025/04/Pippi-Web-Asset.webp
END:VEVENT
BEGIN:VEVENT
DTSTART;TZID=America/New_York:20250825T130000
DTEND;TZID=America/New_York:20250825T140000
DTSTAMP:20260419T110011
CREATED:20250801T125457Z
LAST-MODIFIED:20250825T133827Z
UID:10014893-1756126800-1756130400@cityparksfoundation.org
SUMMARY:CANCELLED: CityParks PuppetMobile: Pippi Longstocking
DESCRIPTION:This event has been cancelled. \nCity Parks Foundation is celebrating the 80th anniversary of the world-renowned children’s story Pippi Longstocking by the legendary Swedish author Astrid Lindgren. To honor this milestone\, our traveling marionette theater\, the PuppetMobile\, will present Pippi\, a fresh retelling of the classic Swedish tale. \nThe production features nearly two dozen\, hand-made marionettes crafted by the expert puppeteers. In addition to the brilliant artistry of the production\, kids and families will enjoy the incredible adventures of quick-witted and super-strong Pippi as she overcomes bullies\, all while fending off unnecessary social conventions.
URL:https://cityparksfoundation.org/events/cityparks-puppetmobile-pippi-longstocking-40/
LOCATION:Bronx
CATEGORIES:PuppetMobile
ATTACH;FMTTYPE=image/webp:https://cityparksfoundation.org/wp-content/uploads/2025/04/Pippi-Web-Asset.webp
END:VEVENT
END:VCALENDAR