BEGIN:VCALENDAR
VERSION:2.0
PRODID:-//City Parks Foundation - ECPv6.15.18//NONSGML v1.0//EN
CALSCALE:GREGORIAN
METHOD:PUBLISH
X-WR-CALNAME:City Parks Foundation
X-ORIGINAL-URL:https://cityparksfoundation.org
X-WR-CALDESC:Events for City Parks Foundation
REFRESH-INTERVAL;VALUE=DURATION:PT1H
X-Robots-Tag:noindex
X-PUBLISHED-TTL:PT1H
BEGIN:VTIMEZONE
TZID:America/New_York
BEGIN:DAYLIGHT
TZOFFSETFROM:-0500
TZOFFSETTO:-0400
TZNAME:EDT
DTSTART:20240310T070000
END:DAYLIGHT
BEGIN:STANDARD
TZOFFSETFROM:-0400
TZOFFSETTO:-0500
TZNAME:EST
DTSTART:20241103T060000
END:STANDARD
BEGIN:DAYLIGHT
TZOFFSETFROM:-0500
TZOFFSETTO:-0400
TZNAME:EDT
DTSTART:20250309T070000
END:DAYLIGHT
BEGIN:STANDARD
TZOFFSETFROM:-0400
TZOFFSETTO:-0500
TZNAME:EST
DTSTART:20251102T060000
END:STANDARD
BEGIN:DAYLIGHT
TZOFFSETFROM:-0500
TZOFFSETTO:-0400
TZNAME:EDT
DTSTART:20260308T070000
END:DAYLIGHT
BEGIN:STANDARD
TZOFFSETFROM:-0400
TZOFFSETTO:-0500
TZNAME:EST
DTSTART:20261101T060000
END:STANDARD
END:VTIMEZONE
BEGIN:VEVENT
DTSTART;TZID=America/New_York:20250712T130000
DTEND;TZID=America/New_York:20250712T140000
DTSTAMP:20260419T121250
CREATED:20250428T190359Z
LAST-MODIFIED:20250429T142554Z
UID:10014661-1752325200-1752328800@cityparksfoundation.org
SUMMARY:CityParks PuppetMobile: Pippi Longstocking
DESCRIPTION:City Parks Foundation is celebrating the 80th anniversary of the world-renowned children’s story Pippi Longstocking by the legendary Swedish author Astrid Lindgren. To honor this milestone\, our traveling marionette theater\, the PuppetMobile\, will present Pippi\, a fresh retelling of the classic Swedish tale. \nThe production features nearly two dozen\, hand-made marionettes crafted by the expert puppeteers. In addition to the brilliant artistry of the production\, kids and families will enjoy the incredible adventures of quick-witted and super-strong Pippi as she overcomes bullies\, all while fending off unnecessary social conventions. \nThis program is supported\, in part\, by public funds from the Consulate General of Sweden in New York.
URL:https://cityparksfoundation.org/events/cityparks-puppetmobile-pippi-longstocking-22/
LOCATION:Brooklyn
CATEGORIES:PuppetMobile
ATTACH;FMTTYPE=image/webp:https://cityparksfoundation.org/wp-content/uploads/2025/04/Pippi-Web-Asset.webp
END:VEVENT
BEGIN:VEVENT
DTSTART;TZID=America/New_York:20250716T110000
DTEND;TZID=America/New_York:20250716T120000
DTSTAMP:20260419T121250
CREATED:20250428T190359Z
LAST-MODIFIED:20250714T190000Z
UID:10014662-1752663600-1752667200@cityparksfoundation.org
SUMMARY:CityParks PuppetMobile: Pippi Longstocking
DESCRIPTION:City Parks Foundation is celebrating the 80th anniversary of the world-renowned children’s story Pippi Longstocking by the legendary Swedish author Astrid Lindgren. To honor this milestone\, our traveling marionette theater\, the PuppetMobile\, will present Pippi\, a fresh retelling of the classic Swedish tale. \nThe production features nearly two dozen\, hand-made marionettes crafted by the expert puppeteers. In addition to the brilliant artistry of the production\, kids and families will enjoy the incredible adventures of quick-witted and super-strong Pippi as she overcomes bullies\, all while fending off unnecessary social conventions. \nThis program is supported\, in part\, by public funds from the Consulate General of Sweden in New York.
URL:https://cityparksfoundation.org/events/cityparks-puppetmobile-pippi-longstocking-23/
LOCATION:Staten Island
CATEGORIES:PuppetMobile
ATTACH;FMTTYPE=image/webp:https://cityparksfoundation.org/wp-content/uploads/2025/04/Pippi-Web-Asset.webp
END:VEVENT
BEGIN:VEVENT
DTSTART;TZID=America/New_York:20250718T110000
DTEND;TZID=America/New_York:20250718T120000
DTSTAMP:20260419T121250
CREATED:20250428T190400Z
LAST-MODIFIED:20250711T202225Z
UID:10014663-1752836400-1752840000@cityparksfoundation.org
SUMMARY:CityParks PuppetMobile: Pippi Longstocking
DESCRIPTION:City Parks Foundation is celebrating the 80th anniversary of the world-renowned children’s story Pippi Longstocking by the legendary Swedish author Astrid Lindgren. To honor this milestone\, our traveling marionette theater\, the PuppetMobile\, will present Pippi\, a fresh retelling of the classic Swedish tale. \nThe production features nearly two dozen\, hand-made marionettes crafted by the expert puppeteers. In addition to the brilliant artistry of the production\, kids and families will enjoy the incredible adventures of quick-witted and super-strong Pippi as she overcomes bullies\, all while fending off unnecessary social conventions. \nThis program is supported\, in part\, by public funds from the Consulate General of Sweden in New York.
URL:https://cityparksfoundation.org/events/cityparks-puppetmobile-pippi-longstocking-24/
LOCATION:Queens
CATEGORIES:PuppetMobile
ATTACH;FMTTYPE=image/webp:https://cityparksfoundation.org/wp-content/uploads/2025/04/Pippi-Web-Asset.webp
END:VEVENT
BEGIN:VEVENT
DTSTART;TZID=America/New_York:20250719T110000
DTEND;TZID=America/New_York:20250719T120000
DTSTAMP:20260419T121250
CREATED:20250717T150931Z
LAST-MODIFIED:20250717T150931Z
UID:10014875-1752922800-1752926400@cityparksfoundation.org
SUMMARY:CityParks PuppetMobile: Pippi Longstocking
DESCRIPTION:City Parks Foundation is celebrating the 80th anniversary of the world-renowned children’s story Pippi Longstocking by the legendary Swedish author Astrid Lindgren. To honor this milestone\, our traveling marionette theater\, the PuppetMobile\, will present Pippi\, a fresh retelling of the classic Swedish tale. \nThe production features nearly two dozen\, hand-made marionettes crafted by the expert puppeteers. In addition to the brilliant artistry of the production\, kids and families will enjoy the incredible adventures of quick-witted and super-strong Pippi as she overcomes bullies\, all while fending off unnecessary social conventions. \nThis program is supported\, in part\, by public funds from the Consulate General of Sweden in New York.
URL:https://cityparksfoundation.org/events/cityparks-puppetmobile-pippi-longstocking-28/
LOCATION:Staten Island
CATEGORIES:PuppetMobile
ATTACH;FMTTYPE=image/webp:https://cityparksfoundation.org/wp-content/uploads/2025/04/Pippi-Web-Asset.webp
END:VEVENT
BEGIN:VEVENT
DTSTART;TZID=America/New_York:20250725T110000
DTEND;TZID=America/New_York:20250725T120000
DTSTAMP:20260419T121250
CREATED:20250428T190405Z
LAST-MODIFIED:20250429T142507Z
UID:10014664-1753441200-1753444800@cityparksfoundation.org
SUMMARY:CityParks PuppetMobile: Pippi Longstocking
DESCRIPTION:City Parks Foundation is celebrating the 80th anniversary of the world-renowned children’s story Pippi Longstocking by the legendary Swedish author Astrid Lindgren. To honor this milestone\, our traveling marionette theater\, the PuppetMobile\, will present Pippi\, a fresh retelling of the classic Swedish tale. \nThe production features nearly two dozen\, hand-made marionettes crafted by the expert puppeteers. In addition to the brilliant artistry of the production\, kids and families will enjoy the incredible adventures of quick-witted and super-strong Pippi as she overcomes bullies\, all while fending off unnecessary social conventions. \nThis program is supported\, in part\, by public funds from the Consulate General of Sweden in New York.
URL:https://cityparksfoundation.org/events/cityparks-puppetmobile-pippi-longstocking-25/
LOCATION:Staten Island
CATEGORIES:PuppetMobile
ATTACH;FMTTYPE=image/webp:https://cityparksfoundation.org/wp-content/uploads/2025/04/Pippi-Web-Asset.webp
END:VEVENT
BEGIN:VEVENT
DTSTART;TZID=America/New_York:20250726T110000
DTEND;TZID=America/New_York:20250726T120000
DTSTAMP:20260419T121250
CREATED:20250428T190406Z
LAST-MODIFIED:20250726T155223Z
UID:10014665-1753527600-1753531200@cityparksfoundation.org
SUMMARY:CANCELLED: CityParks PuppetMobile: Pippi Longstocking
DESCRIPTION:This event has been cancelled. Stay tuned for a possible reschedule!  \nCity Parks Foundation is celebrating the 80th anniversary of the world-renowned children’s story Pippi Longstocking by the legendary Swedish author Astrid Lindgren. To honor this milestone\, our traveling marionette theater\, the PuppetMobile\, will present Pippi\, a fresh retelling of the classic Swedish tale. \nThe production features nearly two dozen\, hand-made marionettes crafted by the expert puppeteers. In addition to the brilliant artistry of the production\, kids and families will enjoy the incredible adventures of quick-witted and super-strong Pippi as she overcomes bullies\, all while fending off unnecessary social conventions. \nThis program is supported\, in part\, by public funds from the Consulate General of Sweden in New York.
URL:https://cityparksfoundation.org/events/cityparks-puppetmobile-pippi-longstocking-26/
LOCATION:Staten Island
CATEGORIES:PuppetMobile
ATTACH;FMTTYPE=image/webp:https://cityparksfoundation.org/wp-content/uploads/2025/04/Pippi-Web-Asset.webp
END:VEVENT
BEGIN:VEVENT
DTSTART;TZID=America/New_York:20250727T110000
DTEND;TZID=America/New_York:20250727T120000
DTSTAMP:20260419T121250
CREATED:20250428T190407Z
LAST-MODIFIED:20250726T155317Z
UID:10014666-1753614000-1753617600@cityparksfoundation.org
SUMMARY:CANCELLED: CityParks PuppetMobile: Pippi Longstocking
DESCRIPTION:This event has been cancelled. Stay tuned for a possible reschedule! \nCity Parks Foundation is celebrating the 80th anniversary of the world-renowned children’s story Pippi Longstocking by the legendary Swedish author Astrid Lindgren. To honor this milestone\, our traveling marionette theater\, the PuppetMobile\, will present Pippi\, a fresh retelling of the classic Swedish tale. \nThe production features nearly two dozen\, hand-made marionettes crafted by the expert puppeteers. In addition to the brilliant artistry of the production\, kids and families will enjoy the incredible adventures of quick-witted and super-strong Pippi as she overcomes bullies\, all while fending off unnecessary social conventions. \nThis program is supported\, in part\, by public funds from the Consulate General of Sweden in New York.
URL:https://cityparksfoundation.org/events/cityparks-puppetmobile-pippi-longstocking-27/
LOCATION:Manhattan
CATEGORIES:PuppetMobile
ATTACH;FMTTYPE=image/webp:https://cityparksfoundation.org/wp-content/uploads/2025/04/Pippi-Web-Asset.webp
END:VEVENT
END:VCALENDAR