BEGIN:VCALENDAR
VERSION:2.0
PRODID:-//City Parks Foundation - ECPv6.15.18//NONSGML v1.0//EN
CALSCALE:GREGORIAN
METHOD:PUBLISH
X-ORIGINAL-URL:https://cityparksfoundation.org
X-WR-CALDESC:Events for City Parks Foundation
REFRESH-INTERVAL;VALUE=DURATION:PT1H
X-Robots-Tag:noindex
X-PUBLISHED-TTL:PT1H
BEGIN:VTIMEZONE
TZID:America/New_York
BEGIN:DAYLIGHT
TZOFFSETFROM:-0500
TZOFFSETTO:-0400
TZNAME:EDT
DTSTART:20250309T070000
END:DAYLIGHT
BEGIN:STANDARD
TZOFFSETFROM:-0400
TZOFFSETTO:-0500
TZNAME:EST
DTSTART:20251102T060000
END:STANDARD
BEGIN:DAYLIGHT
TZOFFSETFROM:-0500
TZOFFSETTO:-0400
TZNAME:EDT
DTSTART:20260308T070000
END:DAYLIGHT
BEGIN:STANDARD
TZOFFSETFROM:-0400
TZOFFSETTO:-0500
TZNAME:EST
DTSTART:20261101T060000
END:STANDARD
BEGIN:DAYLIGHT
TZOFFSETFROM:-0500
TZOFFSETTO:-0400
TZNAME:EDT
DTSTART:20270314T070000
END:DAYLIGHT
BEGIN:STANDARD
TZOFFSETFROM:-0400
TZOFFSETTO:-0500
TZNAME:EST
DTSTART:20271107T060000
END:STANDARD
END:VTIMEZONE
BEGIN:VEVENT
DTSTART;TZID=America/New_York:20260407T170000
DTEND;TZID=America/New_York:20260407T193000
DTSTAMP:20260425T100730
CREATED:20260324T142605Z
LAST-MODIFIED:20260325T130444Z
UID:10015483-1775581200-1775590200@cityparksfoundation.org
SUMMARY:Community Forum for John Hancock Playground
DESCRIPTION:Join Partnerships for Parks’ Catalyst Program to: \n\nShare your ideas for the park\nDiscuss what the community needs\n Imagine what you and others can do to make a difference\n\n  \nFood will be provided and Spanish translation will be available. If you require a special diet or translation services other than Spanish\, contact catalyst@cityparksfoundation.org
URL:https://cityparksfoundation.org/events/community-forum-for-john-hancock-playground/
LOCATION:Brooklyn
CATEGORIES:Partnership for Parks
ATTACH;FMTTYPE=image/webp:https://cityparksfoundation.org/wp-content/uploads/2026/03/JohnHancockPlayground26.webp
END:VEVENT
END:VCALENDAR